BEGIN:VCALENDAR
VERSION:2.0
PRODID:-//The Lexington Observer - ECPv6.15.20//NONSGML v1.0//EN
CALSCALE:GREGORIAN
METHOD:PUBLISH
X-WR-CALNAME:The Lexington Observer
X-ORIGINAL-URL:https://lexobserver.org
X-WR-CALDESC:Events for The Lexington Observer
REFRESH-INTERVAL;VALUE=DURATION:PT1H
X-Robots-Tag:noindex
X-PUBLISHED-TTL:PT1H
BEGIN:VTIMEZONE
TZID:America/New_York
BEGIN:DAYLIGHT
TZOFFSETFROM:-0500
TZOFFSETTO:-0400
TZNAME:EDT
DTSTART:20250309T070000
END:DAYLIGHT
BEGIN:STANDARD
TZOFFSETFROM:-0400
TZOFFSETTO:-0500
TZNAME:EST
DTSTART:20251102T060000
END:STANDARD
BEGIN:DAYLIGHT
TZOFFSETFROM:-0500
TZOFFSETTO:-0400
TZNAME:EDT
DTSTART:20260308T070000
END:DAYLIGHT
BEGIN:STANDARD
TZOFFSETFROM:-0400
TZOFFSETTO:-0500
TZNAME:EST
DTSTART:20261101T060000
END:STANDARD
BEGIN:DAYLIGHT
TZOFFSETFROM:-0500
TZOFFSETTO:-0400
TZNAME:EDT
DTSTART:20270314T070000
END:DAYLIGHT
BEGIN:STANDARD
TZOFFSETFROM:-0400
TZOFFSETTO:-0500
TZNAME:EST
DTSTART:20271107T060000
END:STANDARD
END:VTIMEZONE
BEGIN:VEVENT
DTSTART;TZID=America/New_York:20260502T200000
DTEND;TZID=America/New_York:20260502T213000
DTSTAMP:20260424T045721
CREATED:20260410T010314Z
LAST-MODIFIED:20260410T010314Z
UID:67303-1777752000-1777757400@lexobserver.org
SUMMARY:The Master Singers of Lexington Present "Lieder & Chansons"
DESCRIPTION:Please join the Master Singers of Lexington on May 2 at 8 pm for our final concert of the 2025-26 season: Lieder & Chansons\, a rich and expressive program of French and German music. Enjoy works by Brahms\, Poulenc\, Saint-Saëns\, Hugo Wolf\, and other masters. Purchase tickets online at www.themastersingers.org. Discounts for students\, seniors\, and WGBH members. Ample free parking and handicapped accessible.
URL:https://lexobserver.org/event/the-master-singers-of-lexington-present-lieder-chansons/
LOCATION:Pilgrim Church
ATTACH;FMTTYPE=image/jpeg:https://lexobserver.org/wp-content/uploads/2026/04/Lieder-and-Chanson.jpg
ORGANIZER;CN="The Master Singers of Lexington":MAILTO:mastersingersoflexingtontix@gmail.com
END:VEVENT
END:VCALENDAR