BEGIN:VCALENDAR
VERSION:2.0
PRODID:-//The Lexington Observer - ECPv6.15.20//NONSGML v1.0//EN
CALSCALE:GREGORIAN
METHOD:PUBLISH
X-WR-CALNAME:The Lexington Observer
X-ORIGINAL-URL:https://lexobserver.org
X-WR-CALDESC:Events for The Lexington Observer
REFRESH-INTERVAL;VALUE=DURATION:PT1H
X-Robots-Tag:noindex
X-PUBLISHED-TTL:PT1H
BEGIN:VTIMEZONE
TZID:America/New_York
BEGIN:DAYLIGHT
TZOFFSETFROM:-0500
TZOFFSETTO:-0400
TZNAME:EDT
DTSTART:20250309T070000
END:DAYLIGHT
BEGIN:STANDARD
TZOFFSETFROM:-0400
TZOFFSETTO:-0500
TZNAME:EST
DTSTART:20251102T060000
END:STANDARD
BEGIN:DAYLIGHT
TZOFFSETFROM:-0500
TZOFFSETTO:-0400
TZNAME:EDT
DTSTART:20260308T070000
END:DAYLIGHT
BEGIN:STANDARD
TZOFFSETFROM:-0400
TZOFFSETTO:-0500
TZNAME:EST
DTSTART:20261101T060000
END:STANDARD
BEGIN:DAYLIGHT
TZOFFSETFROM:-0500
TZOFFSETTO:-0400
TZNAME:EDT
DTSTART:20270314T070000
END:DAYLIGHT
BEGIN:STANDARD
TZOFFSETFROM:-0400
TZOFFSETTO:-0500
TZNAME:EST
DTSTART:20271107T060000
END:STANDARD
END:VTIMEZONE
BEGIN:VEVENT
DTSTART;TZID=America/New_York:20260507T190000
DTEND;TZID=America/New_York:20260509T000000
DTSTAMP:20260421T101422
CREATED:20260413T220128Z
LAST-MODIFIED:20260413T220128Z
UID:67554-1778180400-1778284800@lexobserver.org
SUMMARY:Guys and Dolls at LHS
DESCRIPTION:Lexington High School is proud to present its spring musical\, Guys and Dolls\, with performances on May 7\, 8\, and 9. This production showcases the hard work and talent of Lexington High School students\, who have spent months preparing every aspect of the show\, from acting and music to set and costume design. Come support their hard work and enjoy this timeless classic. \nTickets can be purchased online\, or at the door. \n\n \n$15 for general admission\n$10 Students / Seniors
URL:https://lexobserver.org/event/guys-and-dolls-at-lhs/
LOCATION:Lexington High School Auditorium
ATTACH;FMTTYPE=image/jpeg:https://lexobserver.org/wp-content/uploads/2026/04/Guys-Dolls-Poster.jpg
END:VEVENT
BEGIN:VEVENT
DTSTART;TZID=America/New_York:20260509T190000
DTEND;TZID=America/New_York:20260509T190000
DTSTAMP:20260421T101422
CREATED:20260420T150715Z
LAST-MODIFIED:20260420T150715Z
UID:68281-1778353200-1778353200@lexobserver.org
SUMMARY:Lexington Education Foundation's Mad Hatter Party
DESCRIPTION:For over 30 years\, LEF has supported educator-initiated grants that enhance the experience of every student in Lexington Public Schools. Come support LEF!
URL:https://lexobserver.org/event/lexington-education-foundations-mad-hatter-party/
LOCATION:Cary Hall\, 1605 Massachusetts Ave\, Lexington\, MA\, United States
ATTACH;FMTTYPE=image/png:https://lexobserver.org/wp-content/uploads/2026/04/LexEd-.png
ORGANIZER;CN="Lexington Education Foundation":MAILTO:bee@lexedfoundation.org
END:VEVENT
BEGIN:VEVENT
DTSTART;TZID=America/New_York:20260516T080000
DTEND;TZID=America/New_York:20260516T110000
DTSTAMP:20260421T101422
CREATED:20260402T134010Z
LAST-MODIFIED:20260402T134010Z
UID:67114-1778918400-1778929200@lexobserver.org
SUMMARY:Plant Sale! Lexington Field & Garden Club
DESCRIPTION:Dahlias\, perennials\, garden tools\, knife sharpening and more. Rain or shine.
URL:https://lexobserver.org/event/plant-sale-lexington-field-garden-club/
LOCATION:MA
ATTACH;FMTTYPE=image/jpeg:https://lexobserver.org/wp-content/uploads/2026/04/Plant-Sale-Flyer-final.jpg
END:VEVENT
BEGIN:VEVENT
DTSTART;TZID=America/New_York:20260516T080000
DTEND;TZID=America/New_York:20260516T120000
DTSTAMP:20260421T101422
CREATED:20260410T011135Z
LAST-MODIFIED:20260410T011135Z
UID:67313-1778918400-1778932800@lexobserver.org
SUMMARY:PLANT SALE - Lexington Field & Garden Club
DESCRIPTION:May 16 Saturday\, 8 am to 12 noon at Lexington’s Department of Public Works\, 201 Bedford Street. \nCome and look for perennials and plants for your home garden. A tool sharpener will be on hand to keep your shears\, garden clippers\, etc.\, sharp and ready for use. \nA table will feature garden tools and gloves. \nSee you there! \nlexgarden.org
URL:https://lexobserver.org/event/plant-sale-lexington-field-garden-club-2/
LOCATION:Lexington Public Services Building\, 201 Bedford Street\, Lexington\, MA\, 02420\, United States
ATTACH;FMTTYPE=image/jpeg:https://lexobserver.org/wp-content/uploads/2026/04/plant-sale.jpg
END:VEVENT
BEGIN:VEVENT
DTSTART;VALUE=DATE:20260529
DTEND;VALUE=DATE:20260531
DTSTAMP:20260421T101422
CREATED:20260311T151957Z
LAST-MODIFIED:20260311T151957Z
UID:65536-1780012800-1780185599@lexobserver.org
SUMMARY:The WBUR Festival
DESCRIPTION:The WBUR Festival\, happening on Friday\, May 29 and Saturday\, May 30\, 2026\, will feature two days of captivating conversations\, podcast tapings\, musical performances\, and a lively street scene up and down Commonwealth Avenue. \n“The WBUR Festival is serious stuff and wicked fun\, too\,” said Margaret Low\, CEO of WBUR. “Last year was such a smashing success\, we couldn’t wait to do it again. We think of the Festival as our love letter to Boston and beyond — a chance to give back to the people\, the city and the region who fuel WBUR.” \nAlong with WBUR hosts including Meghna Chakrabarti\, Tiziana Dearing\, Indira Lakshmanan\, Lisa Mullins and Robin Young\, the first wave of speakers includes: \n\nJosé Andrés\, chef\, founder of World Central Kitchen — a nonprofit that provides meals in response to global crises — and best-selling author of a new book “Spain My Way\,” coming out in May. Andrés holds two Michelin stars and has been awarded the Presidential Medal of Freedom.\nMarty Baron\, former executive editor of The Washington Post and The Boston Globe. Under his leadership\, newsrooms have won 18 Pulitzer Prizes\, including 11 at the Post.\nJohn Bolton\, former United States national security advisor to President Donald Trump\, former U.S. ambassador to the United Nations and author of “The Room Where It Happened.”\nKatherine Maher\, president and CEO of NPR and former chief executive of the Wikimedia Foundation.\nSamantha Power\, New York Times bestselling author\, Pulitzer Prize winner and former U.S. Ambassador to the U.N.\nBryan Stevenson\, public interest lawyer\, founder and executive director of the Equal Justice Initiative — a human rights organization in Montgomery\, Ala. — and author of the bestselling memoir “Just Mercy.”\nNicholas Thompson\, CEO of The Atlantic and host of the podcast The Most Interesting Thing in AI. His 2025 memoir “The Running Ground” was recognized as a Kirkus Reviews Best Book of the Year.\nAnd numerous public media friends including musician and host Jad Abumrad\, founder of WNYC’s Radiolab; Allison Aubrey\, NPR health and science correspondent and founding host of Life Kit; Mary Louise Kelly\, co-host of NPR’s All Things Considered and host of the Sources & Methods podcast; and Sam Sanders\, host of KCRW’s The Sam Sanders Show and one of the founding hosts of Vibe Check\, The NPR Politics Podcast and It’s Been A Minute.\nSee additional speakers confirmed so far and get tickets at wburfestival.org.\n\nIn addition to its speaker lineup\, The WBUR Festival will feature a range of community-centered activities. The free street fair open to everyone will return on Saturday\, May 30 with more space and more vendors\, including the Found Boston market with 80 vintage sellers — twice as many as last year. Families can enjoy an all-new Kids Zone and live performances\, including dance lessons with Salsa y Control and entertainment from the WBUR Makers Jake Blount and Kimaya Diggs. Attendees can also help create a massive mural — a guided\, paint-by-numbers community art project designed to bring festivalgoers together and create a shared masterpiece. \nOur Partners \nThe WBUR Festival is made possible in part by the generous support of many civic and cultural institutions. WBUR is especially thankful to our premier sponsors: Takeda\, Woods Hole Oceanographic Institution and the Boston Symphony Orchestra; and to our supporting sponsors: The Huntington\, The Mehrotra Institute\, Vivo Performing Arts\, Hartney Greymont\, The Eliot Hotel\, The Trustees\, Museum of Fine Arts\, Boston\, Bartlett Tree Experts and Boston University Fitness & Recreation Center. As our enduring partner and home base\, Boston University helps make The WBUR Festival possible. \nAdditional support is provided by generous donors and sustaining Members who fuel our mission to produce high-quality journalism and enriching experiences that foster understanding\, connection and community. WBUR Members receive special discounts\, benefits and exclusive invitations to Festival activities. Become a Member today and discover all the possibilities while helping to sustain independent journalism. \nTo keep up to date on Festival news\, sign up for the WBUR Events newsletter. Organizations interested in sponsoring The WBUR Festival can reach out to partnerships@wbur.org to learn more. \nAbout WBUR \nWBUR\, founded in 1950\, is Boston’s NPR. An award-winning producer of high-quality journalism on air\, online\, and on stage at CitySpace. With one of the strongest local newsrooms in America\, our journalists cover the most pressing issues in our city and region. Nationally\, WBUR reaches more than seven million people each week with On Point\, Here & Now — a daily newsmagazine produced with NPR — and with a slate of acclaimed podcasts like Endless Thread\, Circle Round and Beyond All Repair.
URL:https://lexobserver.org/event/the-wbur-festival/
LOCATION:MA
ATTACH;FMTTYPE=image/png:https://lexobserver.org/wp-content/uploads/2026/03/WBUR.png
END:VEVENT
BEGIN:VEVENT
DTSTART;TZID=America/New_York:20260613T093000
DTEND;TZID=America/New_York:20260613T153000
DTSTAMP:20260421T101422
CREATED:20260402T134152Z
LAST-MODIFIED:20260402T134152Z
UID:67118-1781343000-1781364600@lexobserver.org
SUMMARY:Garden Tour with the Lexington Field & Garden Club
DESCRIPTION:Visit the inspirational gardens of Lexington. Rain or shine.
URL:https://lexobserver.org/event/garden-tour-with-the-lexington-field-garden-club/
LOCATION:MA
ATTACH;FMTTYPE=image/jpeg:https://lexobserver.org/wp-content/uploads/2026/04/Garden-Tour-Flyer-2.jpg
END:VEVENT
END:VCALENDAR