BEGIN:VCALENDAR
VERSION:2.0
PRODID:-//The Lexington Observer - ECPv6.15.20//NONSGML v1.0//EN
CALSCALE:GREGORIAN
METHOD:PUBLISH
X-ORIGINAL-URL:https://lexobserver.org
X-WR-CALDESC:Events for The Lexington Observer
REFRESH-INTERVAL;VALUE=DURATION:PT1H
X-Robots-Tag:noindex
X-PUBLISHED-TTL:PT1H
BEGIN:VTIMEZONE
TZID:America/New_York
BEGIN:DAYLIGHT
TZOFFSETFROM:-0500
TZOFFSETTO:-0400
TZNAME:EDT
DTSTART:20250309T070000
END:DAYLIGHT
BEGIN:STANDARD
TZOFFSETFROM:-0400
TZOFFSETTO:-0500
TZNAME:EST
DTSTART:20251102T060000
END:STANDARD
BEGIN:DAYLIGHT
TZOFFSETFROM:-0500
TZOFFSETTO:-0400
TZNAME:EDT
DTSTART:20260308T070000
END:DAYLIGHT
BEGIN:STANDARD
TZOFFSETFROM:-0400
TZOFFSETTO:-0500
TZNAME:EST
DTSTART:20261101T060000
END:STANDARD
BEGIN:DAYLIGHT
TZOFFSETFROM:-0500
TZOFFSETTO:-0400
TZNAME:EDT
DTSTART:20270314T070000
END:DAYLIGHT
BEGIN:STANDARD
TZOFFSETFROM:-0400
TZOFFSETTO:-0500
TZNAME:EST
DTSTART:20271107T060000
END:STANDARD
END:VTIMEZONE
BEGIN:VEVENT
DTSTART;TZID=America/New_York:20260410T110000
DTEND;TZID=America/New_York:20260510T170000
DTSTAMP:20260421T042350
CREATED:20260410T013921Z
LAST-MODIFIED:20260410T013921Z
UID:67326-1775818800-1778432400@lexobserver.org
SUMMARY:"Inspired" :: an Art Experience at Gallery Twist
DESCRIPTION:You are invited to visit our new show\, “INSPIRED”. \nCome and browse\, come and enjoy\, no purchase necessary.\nYou’re welcome! \n60+ artists and 200+ artworks\nApril 10 – May 10\nOpen daily 11 – 5\n(except Mon & Tues) \nGallery Twist\n1963 Massachusetts Ave\, Lexington\n(Just a stone’s throw off Battle Green) \nA warm welcome with fabulous art awaits!
URL:https://lexobserver.org/event/inspired-an-art-experience-at-gallery-twist/
LOCATION:Gallery Twist\, 1963 Massachusetts Avenue\, Lexington\, MA\, 02421\, United States
ATTACH;FMTTYPE=image/jpeg:https://lexobserver.org/wp-content/uploads/2026/04/Inspired-2026.jpg
ORGANIZER;CN="Gallery Twist":MAILTO:info@gallerytwist.com
END:VEVENT
BEGIN:VEVENT
DTSTART;VALUE=DATE:20260417
DTEND;VALUE=DATE:20260422
DTSTAMP:20260421T042350
CREATED:20260416T145219Z
LAST-MODIFIED:20260416T165555Z
UID:67842-1776384000-1776815999@lexobserver.org
SUMMARY:Patriots' Day Events — Paul Revere's Ride\, battle reenactments\, parade\, naturalization ceremony and more
DESCRIPTION:Friday\, April 17\n9:00 p.m. – Paul Revere’s Ride Reenactment\, Hancock-Clarke House\, 36 Hancock St.\nIn partnership with Lexington History Museums\, the Lexington Minute Men will bring to life Paul Revere’s historic ride from Boston to the home of Reverend Jonas Clarke in Lexington to alert Patriot leaders John Hancock and Samuel Adams of the impending British raid. \nThe event is free and open to the public. Hancock Street will be closed for the event\, and there will be no parking available on site. Parking at 57 Bedford St. is recommended. \nSaturday\, April 18\n5:15-7:30 a.m. – Reenactment of the Battle of Lexington\nIn the early morning\, the Lexington Minute Men will kick off the historic reenactment of the Battle of Lexington\, including the civilian evacuation\, on the Lexington Battle Green\, beginning with the ringing of the alarm and ending with the British arrival and Parker’s Revenge\, Captain John Parker’s rallying speech to the troops to continue their fight. \n10:30-12 p.m. – Battle of Tower Park\nJust up the street from the Lexington Battle Green at Tower Park\, 1157 Massachusetts Ave.\, the Lexington Minute Men will recreate one of the running battles as the British are forced to retreat back toward Boston. \nThe event will begin with the British troops arriving to Munroe Tavern at 10:30 a.m.\, where they set up a field hospital\, just as they did on April 19\, 1775. At 11:00 a.m.\, Percy’s relief arrives with cannon fire to assist the British in their retreat back to Boston. \nFrom 11:15 a.m. to 12 p.m.\, Captain Parker’s company continues the fight and pushes the British out of Lexington toward Boston. \n1:30-3:30 p.m. – Annual Patriots’ Day Parade\nA wide variety of reenactment groups\, including the Lexington Minute Men\, along with various groups\, marching bands\, and more will walk in the annual Patriots’ Day Parade. \nThe parade will step off at the intersection of Maple and Massachusetts Avenue and will follow through to Lexington Center\, ending at Worthen Road. \nSunday\, April 19\n8 a.m.-5 p.m. – Battle Road\nThe Lexington Minute Men will participate in a day of events at the Old North Bridge in Concord\, including reenactments of the battle of Elm Brook Hill at the Minute Men National Historical Park in Lincoln\, Mass. \nThe day will begin with the North Bridge Immersive Program at 8:30 a.m.\, followed by the reenactment of the Battle of Elm Brook Hill at 11 a.m. The day will finish with the Battle of Parker’s Revenge at 2:30 p.m. at Minute Men National Park. \nMonday\, April 20\n9:30 a.m. – Ye Old Burial Ground Ceremony\nWith the battle reenactments over\, the Lexington Minute Men will fire two musket volleys as two wreaths are laid at the grave of the British Soldier and Captain Parker’s Memorial. \n10 a.m. – Daughters of the American Revolution Wreath-Laying Ceremony\nThe Daughters of the American Revolution will lay wreaths at the Lexington Minute Men monument and the obelisk next to Lexington Battle Green. The obelisk is the oldest war memorial in the nation\, honoring the eight men who died in the Battle of Lexington. \nTuesday\, April 21 – Naturalization Ceremony\n11 a.m. – Naturalization Ceremony\nIn honor of the Shot Heard Around the World on Lexington’s Town Common\, which sparked the Revolutionary War and thus the birth of our Nation\, a group of Americans will be invited to the Town Common and become formally naturalized as American citizens. becoming a part of America’s colorful national tapestry in honor of the country’s 250th anniversary. \nCaptain Commanding Stephen Cole will deliver the ceremony’s opening address\, while the music company will play fife and drum music\, and the Color Guard presents the colors.
URL:https://lexobserver.org/event/patriots-day-events-paul-reveres-ride-battle-re-enactments-parade-naturalization-ceremony-and-more/
LOCATION:MA
ATTACH;FMTTYPE=image/jpeg:https://lexobserver.org/wp-content/uploads/2023/04/1_2023-04-17_Lexington_Patriots_Day_Kunal-Botla-scaled.jpeg
END:VEVENT
BEGIN:VEVENT
DTSTART;TZID=America/New_York:20260420T190000
DTEND;TZID=America/New_York:20260420T213000
DTSTAMP:20260421T042351
CREATED:20260415T140928Z
LAST-MODIFIED:20260415T140928Z
UID:67703-1776711600-1776720600@lexobserver.org
SUMMARY:Armenian Film IN THE LAND OF ARTO: East Coast premiere at Belmont World Film
DESCRIPTION:In tribute to Armenian Heritage Month\, Belmont World Film is screening the East Coast premiere of IN THE LAND OF ARTO\, as part of its 24th International Film Series. \nThe screening will be followed immediately by a discussion led by Diana Hayrapetyan\, Professor of Armenian at Harvard University and a PhD candidate at the Strassler Center for Holocaust Studies at Clark University. \nThe feature film debut of director Tamara Stepanyan is set in Armenia\, including the region of Nagorno-Karabakh\, the site of the ethnic and territorial conflict between Armenia and Azerbaijan\, inhabited mostly by ethnic Armenians until their expulsion in 2023\, and the seven surrounding districts\, inhabited mostly by Azerbaijanis until their expulsion during the 1990s.  The film stars Camille Cottin (Call My Agent\, House of Gucci) as a wife who travels to Armenia to legalize her husband’s death\, only to learn that he lied about his military service\, that he fought in the war\, usurped his identity\, and that his former friends consider him a deserter. \nBelmont World Film’s 24th International Film Series\, “Thicker Than Water\,” runs Mondays at 7:00 PM at the West Newton Cinema through May 18. After a two-week break\, the series continues with the observance of Pride Month on June 1 and World Refugee Awareness Month on June 8 and 15. The films in this year’s series\, which are followed by engaging discussions led by filmmakers and expert speakers\, explore the ties that bind—and sometimes limit—through an intimate and far-reaching collection of stories about families in all their complexity. They span four continents and feature ten different languages\, including Arabic\, Armenian\, Greek\, Darija\, Dutch\, French\, Greek\, Greenlandic\, Quechua\, Spanish\, and Ukrainian—reflecting the many voices and vantage points that shape our shared human story.. All of the selections were official entries at the world’s major film festivals\, with several receiving top honors.
URL:https://lexobserver.org/event/armenian-film-in-the-land-of-arto-east-coast-premiere-at-belmont-world-film/
LOCATION:West Newton Cinema\, 1296 Washington Street\, West Newton\, MA\, 02465\, United States
ATTACH;FMTTYPE=image/jpeg:https://lexobserver.org/wp-content/uploads/2026/04/in-the-land-of-arto.jpg
ORGANIZER;CN="Belmont World Film":MAILTO:info@belmontworldfilm.org
END:VEVENT
END:VCALENDAR