BEGIN:VCALENDAR
VERSION:2.0
PRODID:-//The Lexington Observer - ECPv6.15.20//NONSGML v1.0//EN
CALSCALE:GREGORIAN
METHOD:PUBLISH
X-ORIGINAL-URL:https://lexobserver.org
X-WR-CALDESC:Events for The Lexington Observer
REFRESH-INTERVAL;VALUE=DURATION:PT1H
X-Robots-Tag:noindex
X-PUBLISHED-TTL:PT1H
BEGIN:VTIMEZONE
TZID:America/New_York
BEGIN:DAYLIGHT
TZOFFSETFROM:-0500
TZOFFSETTO:-0400
TZNAME:EDT
DTSTART:20250309T070000
END:DAYLIGHT
BEGIN:STANDARD
TZOFFSETFROM:-0400
TZOFFSETTO:-0500
TZNAME:EST
DTSTART:20251102T060000
END:STANDARD
BEGIN:DAYLIGHT
TZOFFSETFROM:-0500
TZOFFSETTO:-0400
TZNAME:EDT
DTSTART:20260308T070000
END:DAYLIGHT
BEGIN:STANDARD
TZOFFSETFROM:-0400
TZOFFSETTO:-0500
TZNAME:EST
DTSTART:20261101T060000
END:STANDARD
BEGIN:DAYLIGHT
TZOFFSETFROM:-0500
TZOFFSETTO:-0400
TZNAME:EDT
DTSTART:20270314T070000
END:DAYLIGHT
BEGIN:STANDARD
TZOFFSETFROM:-0400
TZOFFSETTO:-0500
TZNAME:EST
DTSTART:20271107T060000
END:STANDARD
END:VTIMEZONE
BEGIN:VEVENT
DTSTART;TZID=America/New_York:20260313T190000
DTEND;TZID=America/New_York:20260313T210000
DTSTAMP:20260419T180754
CREATED:20260213T033758Z
LAST-MODIFIED:20260213T033758Z
UID:62810-1773428400-1773435600@lexobserver.org
SUMMARY:LHS Improv Troupe
DESCRIPTION:Join us on March 13 for the Fourth Improv Troupe show of the year! Once again\, Troupe will be using your suggestions to play games and create scenes that have never been seen before and will never be seen again. If you haven’t been to an Improv show yet this year\, it’s time to say “yes\, and” make your way to the LHS Black Box for an evening of fun. \nMarch 13\, 2026 \n7:00 pm \nLHS Black Box Theater \nFree and Open to the Public
URL:https://lexobserver.org/event/lhs-improv-troupe-4/
LOCATION:Lexington High School Black Box Theater
ATTACH;FMTTYPE=image/png:https://lexobserver.org/wp-content/uploads/2026/02/Improv-Troupe.png
END:VEVENT
END:VCALENDAR