BEGIN:VCALENDAR
VERSION:2.0
PRODID:-//The Lexington Observer - ECPv6.15.20//NONSGML v1.0//EN
CALSCALE:GREGORIAN
METHOD:PUBLISH
X-WR-CALNAME:The Lexington Observer
X-ORIGINAL-URL:https://lexobserver.org
X-WR-CALDESC:Events for The Lexington Observer
REFRESH-INTERVAL;VALUE=DURATION:PT1H
X-Robots-Tag:noindex
X-PUBLISHED-TTL:PT1H
BEGIN:VTIMEZONE
TZID:America/New_York
BEGIN:DAYLIGHT
TZOFFSETFROM:-0500
TZOFFSETTO:-0400
TZNAME:EDT
DTSTART:20250309T070000
END:DAYLIGHT
BEGIN:STANDARD
TZOFFSETFROM:-0400
TZOFFSETTO:-0500
TZNAME:EST
DTSTART:20251102T060000
END:STANDARD
BEGIN:DAYLIGHT
TZOFFSETFROM:-0500
TZOFFSETTO:-0400
TZNAME:EDT
DTSTART:20260308T070000
END:DAYLIGHT
BEGIN:STANDARD
TZOFFSETFROM:-0400
TZOFFSETTO:-0500
TZNAME:EST
DTSTART:20261101T060000
END:STANDARD
BEGIN:DAYLIGHT
TZOFFSETFROM:-0500
TZOFFSETTO:-0400
TZNAME:EDT
DTSTART:20270314T070000
END:DAYLIGHT
BEGIN:STANDARD
TZOFFSETFROM:-0400
TZOFFSETTO:-0500
TZNAME:EST
DTSTART:20271107T060000
END:STANDARD
END:VTIMEZONE
BEGIN:VEVENT
DTSTART;TZID=America/New_York:20260301T130000
DTEND;TZID=America/New_York:20260301T190000
DTSTAMP:20260421T042105
CREATED:20260220T171707Z
LAST-MODIFIED:20260226T125058Z
UID:64299-1772370000-1772391600@lexobserver.org
SUMMARY:The 4th Annual Lexington Lantern Festival
DESCRIPTION:As winter begins to soften and the promise of spring draws near\, the Lexington Lantern Festival invites the community to gather on March 1 for an evening shaped by light\, hope\, and shared experience. Hosted at Cary Hall\, the festival is a celebration of tradition\, creativity\, and togetherness. \nFrom 1:00 to 4:00 PM\, Cary Hall comes alive with interactive booths\, hands-on activities\, and moments for reflection as visitors write wishes and create lantern-inspired keepsakes. Beginning at 4:00 PM\, cultural performances and music fill the space\, sharing stories through movement\, sound\, and tradition until 6:00 PM. \nAs dusk settles\, the celebration flows beyond the hall. From 6:00 to 7:00 PM\, participants are invited to join a lantern parade from Cary Hall to the Visitors Center\, carrying light\, hopes\, and collective spirit into the evening. The journey concludes with a shared moment of illumination at Buckman Tavern and the Visitors Center\, where the glow of lanterns reflects the community’s wishes for the future. \nThe Lexington Lantern Festival is more than an event—it is a pause\, a gathering\, and a shared step forward\, lighting the way together. \nFREE RSVP: https://forms.gle/WhpiXVuL5D8xzuTZ6
URL:https://lexobserver.org/event/the-4th-annual-lexington-lantern-festival/
LOCATION:1875 Massachusetts Ave\, Lexington\, MA 02420\, 1875 Massachusetts Ave\, Lexington\, MA\, 02420\, United States
ATTACH;FMTTYPE=image/jpeg:https://lexobserver.org/wp-content/uploads/2026/02/LanternFestivalFlyer.jpg
ORGANIZER;CN="New Legacy Cultural Center":MAILTO:info@nlcc-ma.com
END:VEVENT
BEGIN:VEVENT
DTSTART;TZID=America/New_York:20260301T153000
DTEND;TZID=America/New_York:20260301T173000
DTSTAMP:20260421T042105
CREATED:20260116T062144Z
LAST-MODIFIED:20260116T062144Z
UID:59110-1772379000-1772386200@lexobserver.org
SUMMARY:Sarasa Ensemble Presents 'alla Bolognese'
DESCRIPTION:Saturday\, February 28\, 2026 at 7 pm at Friends Meeting House\, Cambridge\nSunday\, March 1\, 2026 at 3:30 pm at Follen Church\, Lexington \nNot only renowned for its famous ragù\, Bologna was the hotspot for many pioneering 17th-century musicians who paved the way for the flowering of instrumental music in Europe. Works for cornetto\, violin\, cello and organ by Isabella Leonarda\, Cazzati\, Arresti\, Gabrielli\, Bononcini\, Torelli\, Piccinini\, Ferrari & Montalbano. \nWith Elicia Silverstein\, violin; Nathaniel Cox\, cornetto/theorbo/guitar; Jennifer Morsches\, cello; John McKean\, organ
URL:https://lexobserver.org/event/sarasa-ensemble-presents-alla-bolognese/
LOCATION:Follen Church\, 755 Massachusetts Ave\, Lexington\, MA\, 02420\, United States
ATTACH;FMTTYPE=image/png:https://lexobserver.org/wp-content/uploads/2026/01/Bolognese-sat-sun-scaled.png
ORGANIZER;CN="Sarasa Chamber Music Ensemble":MAILTO:admin@sarasamusic.org
END:VEVENT
END:VCALENDAR