BEGIN:VCALENDAR
VERSION:2.0
PRODID:-//The Lexington Observer - ECPv6.15.20//NONSGML v1.0//EN
CALSCALE:GREGORIAN
METHOD:PUBLISH
X-WR-CALNAME:The Lexington Observer
X-ORIGINAL-URL:https://lexobserver.org
X-WR-CALDESC:Events for The Lexington Observer
REFRESH-INTERVAL;VALUE=DURATION:PT1H
X-Robots-Tag:noindex
X-PUBLISHED-TTL:PT1H
BEGIN:VTIMEZONE
TZID:America/New_York
BEGIN:DAYLIGHT
TZOFFSETFROM:-0500
TZOFFSETTO:-0400
TZNAME:EDT
DTSTART:20250309T070000
END:DAYLIGHT
BEGIN:STANDARD
TZOFFSETFROM:-0400
TZOFFSETTO:-0500
TZNAME:EST
DTSTART:20251102T060000
END:STANDARD
BEGIN:DAYLIGHT
TZOFFSETFROM:-0500
TZOFFSETTO:-0400
TZNAME:EDT
DTSTART:20260308T070000
END:DAYLIGHT
BEGIN:STANDARD
TZOFFSETFROM:-0400
TZOFFSETTO:-0500
TZNAME:EST
DTSTART:20261101T060000
END:STANDARD
BEGIN:DAYLIGHT
TZOFFSETFROM:-0500
TZOFFSETTO:-0400
TZNAME:EDT
DTSTART:20270314T070000
END:DAYLIGHT
BEGIN:STANDARD
TZOFFSETFROM:-0400
TZOFFSETTO:-0500
TZNAME:EST
DTSTART:20271107T060000
END:STANDARD
END:VTIMEZONE
BEGIN:VEVENT
DTSTART;TZID=America/New_York:20260228T200000
DTEND;TZID=America/New_York:20260228T213000
DTSTAMP:20260419T180347
CREATED:20260130T173137Z
LAST-MODIFIED:20260130T173241Z
UID:61591-1772308800-1772314200@lexobserver.org
SUMMARY:The Master Singers of Lexington Present "Pops! Of Presidents and Kings"
DESCRIPTION:Please join the Master’s Singers of Lexington on Saturday February 28 at 8pm for our spring Pops concert! The program will include songs and choruses about monarchy and democracy\, featuring music from 1776\, Sister Suffragette from Mary Poppins\, If I Were King of the Forest from The Wizard of Oz\, and more. Enjoy additional works by Irving Berlin\, Leonard Bernstein\, George Gershwin\, Elton John\, Alan Menken\, Gilbert & Sullivan\, and other beloved composers. \nPurchase tickets online at www.themastersingers.org. Discounts for students\, seniors\, and WGBH members. Ample free parking and handicapped accessible.
URL:https://lexobserver.org/event/the-master-singers-of-lexington-present-pops-of-presidents-and-kings/
LOCATION:First Parish in Lexington\, 7 Harrington Road\, Lexington\, MA\, 02421\, United States
ATTACH;FMTTYPE=image/png:https://lexobserver.org/wp-content/uploads/2026/01/Pops.png
ORGANIZER;CN="The Master Singers of Lexington":MAILTO:mastersingersoflexingtontix@gmail.com
END:VEVENT
END:VCALENDAR