BEGIN:VCALENDAR
VERSION:2.0
PRODID:-//The Lexington Observer - ECPv6.15.20//NONSGML v1.0//EN
CALSCALE:GREGORIAN
METHOD:PUBLISH
X-WR-CALNAME:The Lexington Observer
X-ORIGINAL-URL:https://lexobserver.org
X-WR-CALDESC:Events for The Lexington Observer
REFRESH-INTERVAL;VALUE=DURATION:PT1H
X-Robots-Tag:noindex
X-PUBLISHED-TTL:PT1H
BEGIN:VTIMEZONE
TZID:America/New_York
BEGIN:DAYLIGHT
TZOFFSETFROM:-0500
TZOFFSETTO:-0400
TZNAME:EDT
DTSTART:20250309T070000
END:DAYLIGHT
BEGIN:STANDARD
TZOFFSETFROM:-0400
TZOFFSETTO:-0500
TZNAME:EST
DTSTART:20251102T060000
END:STANDARD
BEGIN:DAYLIGHT
TZOFFSETFROM:-0500
TZOFFSETTO:-0400
TZNAME:EDT
DTSTART:20260308T070000
END:DAYLIGHT
BEGIN:STANDARD
TZOFFSETFROM:-0400
TZOFFSETTO:-0500
TZNAME:EST
DTSTART:20261101T060000
END:STANDARD
BEGIN:DAYLIGHT
TZOFFSETFROM:-0500
TZOFFSETTO:-0400
TZNAME:EDT
DTSTART:20270314T070000
END:DAYLIGHT
BEGIN:STANDARD
TZOFFSETFROM:-0400
TZOFFSETTO:-0500
TZNAME:EST
DTSTART:20271107T060000
END:STANDARD
END:VTIMEZONE
BEGIN:VEVENT
DTSTART;TZID=America/New_York:20260210T190000
DTEND;TZID=America/New_York:20260210T190000
DTSTAMP:20260425T081412
CREATED:20260122T011015Z
LAST-MODIFIED:20260122T011015Z
UID:60303-1770750000-1770750000@lexobserver.org
SUMMARY:Lex Kids Be Kids screening of The Social Dilemma
DESCRIPTION:Join fellow Lexington parents on Tuesday\, February 10 (Safer Internet Day) for an opportunity to watch the 2020 documentary film The Social Dilemma together and engage in a thoughtful conversation about the impact of technology and social media on children\, families\, and schools. Event organized and hosted by Lex Kids Be Kids.\n\nTo register for this FREE event\, head to our events page: https://www.lexkidsbekids.org/events
URL:https://lexobserver.org/event/lex-kids-be-kids-screening-of-the-social-dilemma/
LOCATION:Lexington Venue
ATTACH;FMTTYPE=image/png:https://lexobserver.org/wp-content/uploads/2026/01/Social-Dilemma-Event-for-posting.png
END:VEVENT
END:VCALENDAR