BEGIN:VCALENDAR
VERSION:2.0
PRODID:-//The Lexington Observer - ECPv6.15.20//NONSGML v1.0//EN
CALSCALE:GREGORIAN
METHOD:PUBLISH
X-ORIGINAL-URL:https://lexobserver.org
X-WR-CALDESC:Events for The Lexington Observer
REFRESH-INTERVAL;VALUE=DURATION:PT1H
X-Robots-Tag:noindex
X-PUBLISHED-TTL:PT1H
BEGIN:VTIMEZONE
TZID:America/New_York
BEGIN:DAYLIGHT
TZOFFSETFROM:-0500
TZOFFSETTO:-0400
TZNAME:EDT
DTSTART:20250309T070000
END:DAYLIGHT
BEGIN:STANDARD
TZOFFSETFROM:-0400
TZOFFSETTO:-0500
TZNAME:EST
DTSTART:20251102T060000
END:STANDARD
BEGIN:DAYLIGHT
TZOFFSETFROM:-0500
TZOFFSETTO:-0400
TZNAME:EDT
DTSTART:20260308T070000
END:DAYLIGHT
BEGIN:STANDARD
TZOFFSETFROM:-0400
TZOFFSETTO:-0500
TZNAME:EST
DTSTART:20261101T060000
END:STANDARD
BEGIN:DAYLIGHT
TZOFFSETFROM:-0500
TZOFFSETTO:-0400
TZNAME:EDT
DTSTART:20270314T070000
END:DAYLIGHT
BEGIN:STANDARD
TZOFFSETFROM:-0400
TZOFFSETTO:-0500
TZNAME:EST
DTSTART:20271107T060000
END:STANDARD
END:VTIMEZONE
BEGIN:VEVENT
DTSTART;TZID=America/New_York:20260126T183000
DTEND;TZID=America/New_York:20260126T200000
DTSTAMP:20260425T080242
CREATED:20260109T021759Z
LAST-MODIFIED:20260109T021759Z
UID:58264-1769452200-1769457600@lexobserver.org
SUMMARY:AI Advantage Workshop
DESCRIPTION:If you’ve been using ChatGPT\, Claude\, or Gemini to draft an email or brainstorm ideas\, you’ve probably wondered if there’s more these tools can do. (There is. A lot more). This small-group\, hands-on workshop is designed for people who already understand the basics and are ready to move past the surface level. It’s about learning how to think with GenAI to get real\, useful work done faster\, better\, and with more creativity. Across three in-person sessions\, you’ll practice the techniques that separate casual users from confident\, capable ones. You’ll learn how to: Build multi-step prompts that think through problems with you\, not just respond to them. Create your own custom GPTs\, Gemini Gems\, or Claude Projects designed around your work and goals. Use GenAI to test ideas\, analyze options\, and handle complex or strategic challenges. You’ll leave with a personalized GenAI workflow that fits your style and needs. These tools are something you can use right away to save time\, sharpen decisions\, and lighten your load. If you’ve already taken AI Essentials with The AI Collective Group (or have similar experience)\, this is your next step. It’s for curious learners and professionals who want to make GenAI a genuine partner\, not just a clever assistant. Real projects. Real practice. Real results.
URL:https://lexobserver.org/event/ai-advantage-workshop/
LOCATION:Lexington High School\, 251 Waltham Street\, Lexington\, MA\, 02421\, United States
ATTACH;FMTTYPE=image/png:https://lexobserver.org/wp-content/uploads/2026/01/2.png
ORGANIZER;CN="Lexington Community Education":MAILTO:LCE@lexingtonma.org
END:VEVENT
END:VCALENDAR