BEGIN:VCALENDAR
VERSION:2.0
PRODID:-//The Lexington Observer - ECPv6.15.20//NONSGML v1.0//EN
CALSCALE:GREGORIAN
METHOD:PUBLISH
X-WR-CALNAME:The Lexington Observer
X-ORIGINAL-URL:https://lexobserver.org
X-WR-CALDESC:Events for The Lexington Observer
REFRESH-INTERVAL;VALUE=DURATION:PT1H
X-Robots-Tag:noindex
X-PUBLISHED-TTL:PT1H
BEGIN:VTIMEZONE
TZID:America/New_York
BEGIN:DAYLIGHT
TZOFFSETFROM:-0500
TZOFFSETTO:-0400
TZNAME:EDT
DTSTART:20240310T070000
END:DAYLIGHT
BEGIN:STANDARD
TZOFFSETFROM:-0400
TZOFFSETTO:-0500
TZNAME:EST
DTSTART:20241103T060000
END:STANDARD
BEGIN:DAYLIGHT
TZOFFSETFROM:-0500
TZOFFSETTO:-0400
TZNAME:EDT
DTSTART:20250309T070000
END:DAYLIGHT
BEGIN:STANDARD
TZOFFSETFROM:-0400
TZOFFSETTO:-0500
TZNAME:EST
DTSTART:20251102T060000
END:STANDARD
BEGIN:DAYLIGHT
TZOFFSETFROM:-0500
TZOFFSETTO:-0400
TZNAME:EDT
DTSTART:20260308T070000
END:DAYLIGHT
BEGIN:STANDARD
TZOFFSETFROM:-0400
TZOFFSETTO:-0500
TZNAME:EST
DTSTART:20261101T060000
END:STANDARD
END:VTIMEZONE
BEGIN:VEVENT
DTSTART;TZID=America/New_York:20251130T093000
DTEND;TZID=America/New_York:20251215T193000
DTSTAMP:20260421T070756
CREATED:20251128T040857Z
LAST-MODIFIED:20251128T040857Z
UID:56415-1764495000-1765827000@lexobserver.org
SUMMARY:Advent Events at Church of Our Redeemer
DESCRIPTION:Join Church of Our Redeemer for Advent!  In addition to our weekly worship services at 9:30 am on Sunday mornings\, we have special seasonal events to help us prepare to celebrate Christmas.  These include: an Advent wreath-making event after our 9:30 service on Sunday Nov. 30th\, a service of Lessons & Carols on Sunday Dec. 7th\, cookie decorating and carols after our 9:30 am worship service on Dec. 14th.  In addition\, we will have a St. Nick’s Feastday dinner party on Tuesday Dec. 9th from 5:00 – 6:30 pm and a Healing Worship Service on Monday Dec. 15th at 7:30 pm.  Join us for one or all of these worship services and events as we prepare to celebrate the birth of Jesus on Christmas Day!  Church of Our Redeemer\, the Episcopal Church in Lexington is at 6 Meriam Street.  To learn more\, visit us at www.OurRedeemerLexington.org.
URL:https://lexobserver.org/event/advent-events-at-church-of-our-redeemer/
LOCATION:Church of Our Redeemer\, 6 Meriam St.\, Lexington\, 02420\, United States
ATTACH;FMTTYPE=image/png:https://lexobserver.org/wp-content/uploads/2025/11/COR-Advent-2025-Flyer-1.png
END:VEVENT
BEGIN:VEVENT
DTSTART;TZID=America/New_York:20251201T120000
DTEND;TZID=America/New_York:20251231T170000
DTSTAMP:20260421T070756
CREATED:20251205T033332Z
LAST-MODIFIED:20251205T033332Z
UID:56617-1764590400-1767200400@lexobserver.org
SUMMARY:Free Cloth Gift Wrap Available
DESCRIPTION:Consider alternatives to wasteful wrapping paper this season. LexZeroWaste and Cary Library have teamed up to collect\, create and distribute cloth gift wrap kits\, including instructions on how to wrap with them. Just visit  Cary Library during the month of December and ask the librarian for your FREE “Take and Make” kit. Supplies are limited\, so it will be on a first come\, first served basis.
URL:https://lexobserver.org/event/free-cloth-gift-wrap-available/
LOCATION:Cary Library
ATTACH;FMTTYPE=image/jpeg:https://lexobserver.org/wp-content/uploads/2025/11/furoshiki_wrapped_gift_landscape.jpg
ORGANIZER;CN="Lexington Zero Waste Collaborative":MAILTO:info@lexzerowaste.org
END:VEVENT
BEGIN:VEVENT
DTSTART;TZID=America/New_York:20251213T000000
DTEND;TZID=America/New_York:20251213T023000
DTSTAMP:20260421T070756
CREATED:20251211T210630Z
LAST-MODIFIED:20251211T210630Z
UID:57217-1765584000-1765593000@lexobserver.org
SUMMARY:Reverse Tea Party Food Drive
DESCRIPTION:Alongside the town’s Tea Burning Reenactment activities this weekend\, Lexington Alarm! is hosting a Reverse Tea Party from 12 noon to 2:30 p.m. Saturday\, Dec. 13 at Emery Park (Depot Square) to benefit local food banks.  \nThe Virtual Food Drive will symbolically “Refill the Chests” of tea dumped by the colonists in 1773. We will be collecting funds for the Lexington Food Pantry\, Food Link\, and Minuteman Senior Services.
URL:https://lexobserver.org/event/reverse-tea-party-food-drive/
LOCATION:Emery Park (Depot Square)\, Lexington\, MA\, United States
ATTACH;FMTTYPE=image/jpeg:https://lexobserver.org/wp-content/uploads/2025/12/reverse-tea-party.jpg
ORGANIZER;CN="Lexington Alarm!":MAILTO:lexingtonalarmoutreach@gmail.com
END:VEVENT
BEGIN:VEVENT
DTSTART;TZID=America/New_York:20251213T100000
DTEND;TZID=America/New_York:20251213T150000
DTSTAMP:20260421T070756
CREATED:20251128T041023Z
LAST-MODIFIED:20251128T041023Z
UID:56405-1765620000-1765638000@lexobserver.org
SUMMARY:Boston Skyline Chorus Holiday Palooza - Concert & Craft Fair
DESCRIPTION:Join Boston Skyline Chorus for our Annual Holiday Palooza on Saturday\, December 13th (10am-3pm). This event is FREE to attend (though donations are gratefully accepted!). \nIt’s a combination craft fair/a cappella show\, so come shop local artisanal goods\, and enjoy music throughout the day by Boston Skyline Chorus\, our very own barbershop quartets\, and guest performers – Sound Bites! \nThis year we’re offering a LIVESTREAM option for those who can’t attend in person. For a donation of $10 or more\, you’ll receive a link to enjoy all of the day’s performances from the comforts of your home! Just click on the link below to register and donate by Zelle or Venmo. \nhttps://tinyurl.com/ypjhsp75 \nInterested in joining our chorus? Go to www.singbsc.org to learn more\, or email bostonskylinechorus@gmail.com to set up a visit!
URL:https://lexobserver.org/event/boston-skyline-chorus-holiday-palooza-concert-craft-fair/
LOCATION:Knights of Columbus Heritage Hall\, Lexington\, MA\, Lexington\, MA\, United States
ATTACH;FMTTYPE=image/png:https://lexobserver.org/wp-content/uploads/2025/11/2025-HolidayPalooza-Flyer.png
ORGANIZER;CN="Boston Skyline Chorus":MAILTO:bostonskylinechorus@gmail.com
END:VEVENT
BEGIN:VEVENT
DTSTART;TZID=America/New_York:20251213T120000
DTEND;TZID=America/New_York:20251213T143000
DTSTAMP:20260421T070756
CREATED:20251212T021751Z
LAST-MODIFIED:20251212T021751Z
UID:56914-1765627200-1765636200@lexobserver.org
SUMMARY:Reverse Tea Party Food Drive
DESCRIPTION:Celebrate Lexington’s local resistance history with a Reverse Tea Party to help alleviate the growing food insecurity in our local communities. During the town’s annual reenactment of the historic Dec. 13\, 1773 Tea Burning\, we will be in Depot Square filling the chests of three local organizations supporting those whose hunger has been increased by federal cutbacks\, symbolically reversing the 1773 emptying of English tea chests into Boston’s Harbor. All are welcome!
URL:https://lexobserver.org/event/reverse-tea-party-food-drive-2/
LOCATION:Emory Park\, Lexington Center
ATTACH;FMTTYPE=image/jpeg:https://lexobserver.org/wp-content/uploads/2025/12/FOOD-DRIVE-LexAlarm_REV3-2.jpeg
ORGANIZER;CN="Lexington Alarm!":MAILTO:info@lexingtonalarm.org
END:VEVENT
BEGIN:VEVENT
DTSTART;TZID=America/New_York:20251213T120000
DTEND;TZID=America/New_York:20251213T150000
DTSTAMP:20260421T070756
CREATED:20251113T215839Z
LAST-MODIFIED:20251113T215839Z
UID:55630-1765627200-1765638000@lexobserver.org
SUMMARY:Lexington Tea Burning Reenactment
DESCRIPTION:On December 13\, 1773\, three days before the Boston Tea Party\, the Lexington Town Meeting concluded a multi-day debate with a resolution to stop purchasing or drinking imported British tea. The crowd spilled out onto the common behind the meeting house and made a bonfire\, throwing the entire town’s supply of tea into it.\n\nEach year\, we reenact this occasion with a day of tea history! Join us for fun\, interactive activities to learn more about why tea was so important to the Revolution. Meet with the Lexington residents of 1773 to hear their side of the story\, find out where tea comes from\, and end the day by gathering around the fire and burning the tea!\n\nMore information coming soon!
URL:https://lexobserver.org/event/lexington-tea-burning-reenactment-2/
LOCATION:Buckman Tavern\, 1 Bedford St\, Lexington\, MA\, 02420\, United States
ATTACH;FMTTYPE=image/jpeg:https://lexobserver.org/wp-content/uploads/2025/11/teaheader2.jpg
ORGANIZER;CN="Lexington History Museums":MAILTO:visitorservices@lexingtonhistory.org
END:VEVENT
BEGIN:VEVENT
DTSTART;TZID=America/New_York:20251213T190000
DTEND;TZID=America/New_York:20251213T203000
DTSTAMP:20260421T070756
CREATED:20251121T043109Z
LAST-MODIFIED:20251121T043109Z
UID:55916-1765652400-1765657800@lexobserver.org
SUMMARY:Music of Carolina Uccelli and Gioachino Rossini: Passion\, Wit\, and Vocal Fireworks!
DESCRIPTION:Experience some of the most beautiful melodies and dazzling vocal pyrotechnics ever written in the concert Music of Carolina Uccelli and Gioachino Rossini: Passion\, Wit\, and Vocal Fireworks!\, taking place at First Parish in Lexington (Lexington\, MA) on Saturday\, December 13 at 7:00 PM. The performance features First Parish Resident Artists Yunona Tabala (soprano) and Julia Jaffe (mezzo-soprano)\, in collaboration with James Lorusso (piano). This sparkling program showcases music by the beloved Bel Canto legend Gioachino Rossini and his newly rediscovered contemporary Carolina Uccelli — a woman once hailed as a “born opera composer\,” whose voice history nearly silenced. The evening will also include engaging commentary offering fascinating insights into the lives and careers of these remarkable composers\, presented by Noam Shoresh. Come for the music — stay for the party! RSVP by December 1 at www.surl.li/rufbks to receive a complimentary pre-show refreshment\, served between 6:45–7:00 PM. A reception for all attendees will follow the concert. Suggested donation is $20 and will go directly to the performers. Free parking is available behind the building.
URL:https://lexobserver.org/event/music-of-carolina-uccelli-and-gioachino-rossini-passion-wit-and-vocal-fireworks/
LOCATION:First Parish in Lexington\, 7 Harrington Road\, Lexington\, MA\, 02421\, United States
ATTACH;FMTTYPE=image/png:https://lexobserver.org/wp-content/uploads/2025/11/LBCS-2025-words.png
ORGANIZER;CN="First Parish Lexington MA":MAILTO:music.fplex@gmail.com
END:VEVENT
BEGIN:VEVENT
DTSTART;TZID=America/New_York:20251213T190000
DTEND;TZID=America/New_York:20251213T210000
DTSTAMP:20260421T070756
CREATED:20251128T041323Z
LAST-MODIFIED:20251128T041323Z
UID:56300-1765652400-1765659600@lexobserver.org
SUMMARY:LHS Fall A Cappella Jam
DESCRIPTION:Join us for the first A Cappella Jam of the year! \nSaturday\, December 13\, 2025 at 7:00 p.m. \n$12/Adults \n$5/Students
URL:https://lexobserver.org/event/lhs-fall-a-cappella-jam/
LOCATION:Lexington High School Auditorium
ATTACH;FMTTYPE=image/png:https://lexobserver.org/wp-content/uploads/2025/11/Fall-Jam.png
END:VEVENT
END:VCALENDAR