BEGIN:VCALENDAR
VERSION:2.0
PRODID:-//The Lexington Observer - ECPv6.15.20//NONSGML v1.0//EN
CALSCALE:GREGORIAN
METHOD:PUBLISH
X-ORIGINAL-URL:https://lexobserver.org
X-WR-CALDESC:Events for The Lexington Observer
REFRESH-INTERVAL;VALUE=DURATION:PT1H
X-Robots-Tag:noindex
X-PUBLISHED-TTL:PT1H
BEGIN:VTIMEZONE
TZID:America/New_York
BEGIN:DAYLIGHT
TZOFFSETFROM:-0500
TZOFFSETTO:-0400
TZNAME:EDT
DTSTART:20240310T070000
END:DAYLIGHT
BEGIN:STANDARD
TZOFFSETFROM:-0400
TZOFFSETTO:-0500
TZNAME:EST
DTSTART:20241103T060000
END:STANDARD
BEGIN:DAYLIGHT
TZOFFSETFROM:-0500
TZOFFSETTO:-0400
TZNAME:EDT
DTSTART:20250309T070000
END:DAYLIGHT
BEGIN:STANDARD
TZOFFSETFROM:-0400
TZOFFSETTO:-0500
TZNAME:EST
DTSTART:20251102T060000
END:STANDARD
BEGIN:DAYLIGHT
TZOFFSETFROM:-0500
TZOFFSETTO:-0400
TZNAME:EDT
DTSTART:20260308T070000
END:DAYLIGHT
BEGIN:STANDARD
TZOFFSETFROM:-0400
TZOFFSETTO:-0500
TZNAME:EST
DTSTART:20261101T060000
END:STANDARD
END:VTIMEZONE
BEGIN:VEVENT
DTSTART;TZID=America/New_York:20251130T093000
DTEND;TZID=America/New_York:20251215T193000
DTSTAMP:20260425T064729
CREATED:20251128T040857Z
LAST-MODIFIED:20251128T040857Z
UID:56415-1764495000-1765827000@lexobserver.org
SUMMARY:Advent Events at Church of Our Redeemer
DESCRIPTION:Join Church of Our Redeemer for Advent!  In addition to our weekly worship services at 9:30 am on Sunday mornings\, we have special seasonal events to help us prepare to celebrate Christmas.  These include: an Advent wreath-making event after our 9:30 service on Sunday Nov. 30th\, a service of Lessons & Carols on Sunday Dec. 7th\, cookie decorating and carols after our 9:30 am worship service on Dec. 14th.  In addition\, we will have a St. Nick’s Feastday dinner party on Tuesday Dec. 9th from 5:00 – 6:30 pm and a Healing Worship Service on Monday Dec. 15th at 7:30 pm.  Join us for one or all of these worship services and events as we prepare to celebrate the birth of Jesus on Christmas Day!  Church of Our Redeemer\, the Episcopal Church in Lexington is at 6 Meriam Street.  To learn more\, visit us at www.OurRedeemerLexington.org.
URL:https://lexobserver.org/event/advent-events-at-church-of-our-redeemer/
LOCATION:Church of Our Redeemer\, 6 Meriam St.\, Lexington\, 02420\, United States
ATTACH;FMTTYPE=image/png:https://lexobserver.org/wp-content/uploads/2025/11/COR-Advent-2025-Flyer-1.png
END:VEVENT
BEGIN:VEVENT
DTSTART;TZID=America/New_York:20251201T120000
DTEND;TZID=America/New_York:20251231T170000
DTSTAMP:20260425T064729
CREATED:20251205T033332Z
LAST-MODIFIED:20251205T033332Z
UID:56617-1764590400-1767200400@lexobserver.org
SUMMARY:Free Cloth Gift Wrap Available
DESCRIPTION:Consider alternatives to wasteful wrapping paper this season. LexZeroWaste and Cary Library have teamed up to collect\, create and distribute cloth gift wrap kits\, including instructions on how to wrap with them. Just visit  Cary Library during the month of December and ask the librarian for your FREE “Take and Make” kit. Supplies are limited\, so it will be on a first come\, first served basis.
URL:https://lexobserver.org/event/free-cloth-gift-wrap-available/
LOCATION:Cary Library
ATTACH;FMTTYPE=image/jpeg:https://lexobserver.org/wp-content/uploads/2025/11/furoshiki_wrapped_gift_landscape.jpg
ORGANIZER;CN="Lexington Zero Waste Collaborative":MAILTO:info@lexzerowaste.org
END:VEVENT
BEGIN:VEVENT
DTSTART;TZID=America/New_York:20251202T190000
DTEND;TZID=America/New_York:20251202T200000
DTSTAMP:20260425T064729
CREATED:20251114T023904Z
LAST-MODIFIED:20251114T023904Z
UID:55556-1764702000-1764705600@lexobserver.org
SUMMARY:Book Chat: Washington and Hamilton: The Alliance that Forged America
DESCRIPTION:The paternal relationship between George Washington and Alexander Hamilton captivated the nation in the musical Hamilton\, but the true story of the tumultuous duo goes much further. Washington and Hamilton: The Alliance that Forged America by Stephen K. Knott and Tony Williams shows two opposing forces\, one stoic\, the other ambitious\, represented the complexities of the new America. Together they worked together to achieve an equilibrium that would benefit an equally complex nation\, fighting side by side to fend off detractors and lay the groundwork for modern politics. Join us for a discussion\, leader TBD\, about these equally enigmatic founding fathers!\n\n\n  \nReading Into History: Book Chats is a series of informal discussions of historical topics inspired by nonfiction history books\, and led by authors\, historians\, and local history enthusiasts. All are welcome; reading the book is not required\, but will enhance the experience! Dates are subject to change given speaker availability\, and discussion leaders will be clearly identified in the event description when solidified.\n  \n\n  \n$10 members\, $15 nonmembers\n  \nRegistration coming soon!
URL:https://lexobserver.org/event/book-chat-washington-and-hamilton-the-alliance-that-forged-america/
LOCATION:The Depot 13 Depot Square Lexington MA 02420\, 13 Depot Square\, Lexington\, MA\, 02420\, United States
ATTACH;FMTTYPE=image/png:https://lexobserver.org/wp-content/uploads/2025/11/washingtonhamilton.png
ORGANIZER;CN="Lexington History Museums":MAILTO:visitorservices@lexingtonhistory.org
END:VEVENT
END:VCALENDAR