BEGIN:VCALENDAR
VERSION:2.0
PRODID:-//The Lexington Observer - ECPv6.15.20//NONSGML v1.0//EN
CALSCALE:GREGORIAN
METHOD:PUBLISH
X-WR-CALNAME:The Lexington Observer
X-ORIGINAL-URL:https://lexobserver.org
X-WR-CALDESC:Events for The Lexington Observer
REFRESH-INTERVAL;VALUE=DURATION:PT1H
X-Robots-Tag:noindex
X-PUBLISHED-TTL:PT1H
BEGIN:VTIMEZONE
TZID:America/New_York
BEGIN:DAYLIGHT
TZOFFSETFROM:-0500
TZOFFSETTO:-0400
TZNAME:EDT
DTSTART:20240310T070000
END:DAYLIGHT
BEGIN:STANDARD
TZOFFSETFROM:-0400
TZOFFSETTO:-0500
TZNAME:EST
DTSTART:20241103T060000
END:STANDARD
BEGIN:DAYLIGHT
TZOFFSETFROM:-0500
TZOFFSETTO:-0400
TZNAME:EDT
DTSTART:20250309T070000
END:DAYLIGHT
BEGIN:STANDARD
TZOFFSETFROM:-0400
TZOFFSETTO:-0500
TZNAME:EST
DTSTART:20251102T060000
END:STANDARD
BEGIN:DAYLIGHT
TZOFFSETFROM:-0500
TZOFFSETTO:-0400
TZNAME:EDT
DTSTART:20260308T070000
END:DAYLIGHT
BEGIN:STANDARD
TZOFFSETFROM:-0400
TZOFFSETTO:-0500
TZNAME:EST
DTSTART:20261101T060000
END:STANDARD
END:VTIMEZONE
BEGIN:VEVENT
DTSTART;TZID=America/New_York:20251120T130000
DTEND;TZID=America/New_York:20251201T140000
DTSTAMP:20260425T081417
CREATED:20251114T023809Z
LAST-MODIFIED:20251114T023809Z
UID:55544-1763643600-1764597600@lexobserver.org
SUMMARY:Swept Up In Revolution Tour
DESCRIPTION:Lexington History Museums’ special exhibition Swept Up in Revolution at Buckman Tavern follows the lives of ordinary people thrust into extraordinary circumstances. How did a war for independence break out in a sleepy country town\, and what were the consequences for the survivors once the smoke cleared? Join us for a special conversational tour where we will peer into the lives of Lexingtonians during the American Revolution.\n  \nIncluded with museum admission.
URL:https://lexobserver.org/event/swept-up-in-revolution-tour/
LOCATION:Buckman Tavern\, 1 Bedford St\, Lexington\, MA\, 02420\, United States
ATTACH;FMTTYPE=image/jpeg:https://lexobserver.org/wp-content/uploads/2025/11/sweptup.jpg
ORGANIZER;CN="Lexington History Museums":MAILTO:visitorservices@lexingtonhistory.org
END:VEVENT
BEGIN:VEVENT
DTSTART;TZID=America/New_York:20251123T123000
DTEND;TZID=America/New_York:20251123T170000
DTSTAMP:20260425T081417
CREATED:20251106T203410Z
LAST-MODIFIED:20251106T203410Z
UID:55335-1763901000-1763917200@lexobserver.org
SUMMARY:Turkey & Ham Raffle Party and Fundraiser
DESCRIPTION:The Lexington Knights of Columbus are hosting our annual Turkey & Ham Raffle Party and Fundraiser.  Join us at the Knights of Columbus Lantern Lounge on November 23 starting at 12:30PM for an afternoon of raffles\, fun and giving back.  All proceeds from this event will go towards local families in need for their Thanksgiving food.  Help us give to those who need it most this Thanksgiving. \nWe will be raffling off Turkeys\, Hams and some mystery prizes.  At the same time come watch the New England Patriots take on the Cincinnati Bengals.  Come by yourself or bring friends and family.  All are welcome. \n 
URL:https://lexobserver.org/event/turkey-ham-raffle-party-and-fundraiser/
LOCATION:Knights of Columbus\, 177 Bedford St\, Levington\, MA\, United States
ATTACH;FMTTYPE=image/png:https://lexobserver.org/wp-content/uploads/2025/11/Turkey-and-Ham-Raffle-Party-.png
ORGANIZER;CN="Knights of Columbus%2C Council 94":MAILTO:knightscouncil94@gmail.com
END:VEVENT
END:VCALENDAR