BEGIN:VCALENDAR
VERSION:2.0
PRODID:-//The Lexington Observer - ECPv6.15.20//NONSGML v1.0//EN
CALSCALE:GREGORIAN
METHOD:PUBLISH
X-WR-CALNAME:The Lexington Observer
X-ORIGINAL-URL:https://lexobserver.org
X-WR-CALDESC:Events for The Lexington Observer
REFRESH-INTERVAL;VALUE=DURATION:PT1H
X-Robots-Tag:noindex
X-PUBLISHED-TTL:PT1H
BEGIN:VTIMEZONE
TZID:America/New_York
BEGIN:DAYLIGHT
TZOFFSETFROM:-0500
TZOFFSETTO:-0400
TZNAME:EDT
DTSTART:20240310T070000
END:DAYLIGHT
BEGIN:STANDARD
TZOFFSETFROM:-0400
TZOFFSETTO:-0500
TZNAME:EST
DTSTART:20241103T060000
END:STANDARD
BEGIN:DAYLIGHT
TZOFFSETFROM:-0500
TZOFFSETTO:-0400
TZNAME:EDT
DTSTART:20250309T070000
END:DAYLIGHT
BEGIN:STANDARD
TZOFFSETFROM:-0400
TZOFFSETTO:-0500
TZNAME:EST
DTSTART:20251102T060000
END:STANDARD
BEGIN:DAYLIGHT
TZOFFSETFROM:-0500
TZOFFSETTO:-0400
TZNAME:EDT
DTSTART:20260308T070000
END:DAYLIGHT
BEGIN:STANDARD
TZOFFSETFROM:-0400
TZOFFSETTO:-0500
TZNAME:EST
DTSTART:20261101T060000
END:STANDARD
END:VTIMEZONE
BEGIN:VEVENT
DTSTART;TZID=America/New_York:20251008T090000
DTEND;TZID=America/New_York:20251119T110000
DTSTAMP:20260423T075026
CREATED:20250909T155648Z
LAST-MODIFIED:20250909T155648Z
UID:52312-1759914000-1763550000@lexobserver.org
SUMMARY:Dismantling Racism in our Town
DESCRIPTION:Dismantling Racism in Our Town \na free conversation and reflection series in Lexington \nWednesdays\, 9:00-11:00 a.m.\, October 8 – November 19\, via Zoom \nsupported by the Lexington Human Rights Committee & Lexington Lyceum Advocates \nDismantling Racism in Our Town (DRIOT) is a seven-week learning journey offered by and for those who live\, work\, study\, and/or worship in Lexington or nearby towns. It is designed to strengthen our personal and collective awareness of anti-Black racism and its consequences; and to commit together to undo and repair the legacies of racism and white supremacy in ourselves and our communities. \nDRIOT is an all-volunteer organization with a cohort of co-facilitators who organize and lead the 7-session journey.  Participants must be available each of the 7 sessions to register.  This session’s leaders are Lisa Goodman and Tanya Gisolfi-McCready. \nRegister here: https://tinyurl.com/DRIOTFall2025Registration \nQuestions? Contact us: LexDismantlingRacism@gmail.com
URL:https://lexobserver.org/event/dismantling-racism-in-our-town/
LOCATION:Zoom
ATTACH;FMTTYPE=image/png:https://lexobserver.org/wp-content/uploads/2025/09/DRIOT-Fall-2025-digital-image-w-url-and-QR.png
ORGANIZER;CN="Lexington Lyceum Advocates":MAILTO:info@lexlyceum.org
END:VEVENT
END:VCALENDAR