BEGIN:VCALENDAR
VERSION:2.0
PRODID:-//The Lexington Observer - ECPv6.15.20//NONSGML v1.0//EN
CALSCALE:GREGORIAN
METHOD:PUBLISH
X-ORIGINAL-URL:https://lexobserver.org
X-WR-CALDESC:Events for The Lexington Observer
REFRESH-INTERVAL;VALUE=DURATION:PT1H
X-Robots-Tag:noindex
X-PUBLISHED-TTL:PT1H
BEGIN:VTIMEZONE
TZID:America/New_York
BEGIN:DAYLIGHT
TZOFFSETFROM:-0500
TZOFFSETTO:-0400
TZNAME:EDT
DTSTART:20240310T070000
END:DAYLIGHT
BEGIN:STANDARD
TZOFFSETFROM:-0400
TZOFFSETTO:-0500
TZNAME:EST
DTSTART:20241103T060000
END:STANDARD
BEGIN:DAYLIGHT
TZOFFSETFROM:-0500
TZOFFSETTO:-0400
TZNAME:EDT
DTSTART:20250309T070000
END:DAYLIGHT
BEGIN:STANDARD
TZOFFSETFROM:-0400
TZOFFSETTO:-0500
TZNAME:EST
DTSTART:20251102T060000
END:STANDARD
BEGIN:DAYLIGHT
TZOFFSETFROM:-0500
TZOFFSETTO:-0400
TZNAME:EDT
DTSTART:20260308T070000
END:DAYLIGHT
BEGIN:STANDARD
TZOFFSETFROM:-0400
TZOFFSETTO:-0500
TZNAME:EST
DTSTART:20261101T060000
END:STANDARD
END:VTIMEZONE
BEGIN:VEVENT
DTSTART;TZID=America/New_York:20251008T090000
DTEND;TZID=America/New_York:20251119T110000
DTSTAMP:20260423T080301
CREATED:20250909T155648Z
LAST-MODIFIED:20250909T155648Z
UID:52312-1759914000-1763550000@lexobserver.org
SUMMARY:Dismantling Racism in our Town
DESCRIPTION:Dismantling Racism in Our Town \na free conversation and reflection series in Lexington \nWednesdays\, 9:00-11:00 a.m.\, October 8 – November 19\, via Zoom \nsupported by the Lexington Human Rights Committee & Lexington Lyceum Advocates \nDismantling Racism in Our Town (DRIOT) is a seven-week learning journey offered by and for those who live\, work\, study\, and/or worship in Lexington or nearby towns. It is designed to strengthen our personal and collective awareness of anti-Black racism and its consequences; and to commit together to undo and repair the legacies of racism and white supremacy in ourselves and our communities. \nDRIOT is an all-volunteer organization with a cohort of co-facilitators who organize and lead the 7-session journey.  Participants must be available each of the 7 sessions to register.  This session’s leaders are Lisa Goodman and Tanya Gisolfi-McCready. \nRegister here: https://tinyurl.com/DRIOTFall2025Registration \nQuestions? Contact us: LexDismantlingRacism@gmail.com
URL:https://lexobserver.org/event/dismantling-racism-in-our-town/
LOCATION:Zoom
ATTACH;FMTTYPE=image/png:https://lexobserver.org/wp-content/uploads/2025/09/DRIOT-Fall-2025-digital-image-w-url-and-QR.png
ORGANIZER;CN="Lexington Lyceum Advocates":MAILTO:info@lexlyceum.org
END:VEVENT
BEGIN:VEVENT
DTSTART;VALUE=DATE:20251101
DTEND;VALUE=DATE:20251102
DTSTAMP:20260423T080301
CREATED:20250724T034346Z
LAST-MODIFIED:20250724T034453Z
UID:49576-1761955200-1762041599@lexobserver.org
SUMMARY:Town Celebrations Committee Veterans Day 2025
DESCRIPTION:
URL:https://lexobserver.org/event/town-celebrations-committee-veterans-day-2025/
LOCATION:Knights of Columbus Heritage Hall\, 177 Bedford St\, Lexington\, M\, 02420\, United States
ATTACH;FMTTYPE=image/png:https://lexobserver.org/wp-content/uploads/2025/07/Screenshot-2025-07-23-at-11.34.44-PM.png
END:VEVENT
BEGIN:VEVENT
DTSTART;TZID=America/New_York:20251106T173000
DTEND;TZID=America/New_York:20251106T203000
DTSTAMP:20260423T080301
CREATED:20251010T134129Z
LAST-MODIFIED:20251104T021611Z
UID:53730-1762450200-1762461000@lexobserver.org
SUMMARY:Soup Season: Three Cold-Weather Classics with Chef Kelcy Scolnick
DESCRIPTION:Join Chef Kelcy this fall for an interactive cooking demonstration and tasting with LexMedia! Warm up with three delicious soups perfect for the colder months. In this class\, Kelcy will make a silky vegan Fall Squash Soup\, a classic Potato Leek Soup\, and a family favorite: Chicken and Dumpling Soup with homemade dumplings\, great for using up leftover chicken. And\, because no soup night is complete without something to dip\, you’ll also learn how to whip up a quick Irish soda bread and homemade honey butter.\nThis class is BYOB — feel free to bring your favorite beer or bottle of wine\, especially if it would pair well with the dishes. \nClass Menu\n– Fall Squash Soup\n– Potato Leek Soup\n– Chicken and Dumpling Soup\n– Irish soda bread and homemade honey butter \nAbout Chef Kelcy:\nChef Kelcy is a Lowell-based chef and educator who emphasizes seasonal eating and community support. She provides private cooking classes and hosts intimate dinner parties. As the Farm Chef at Wright-Locke Farm in Winchester\, MA\, she conducts educational programs for all ages and creates delightful farm-to-table food experiences. \nAbout Wright-Locke Farm:\nWright-Locke Farm\, located in Winchester\, MA\, is dedicated to building community and modeling sustainable practices. They grow certified organic vegetables\, fruits and flowers and offer educational programs for all ages\, as well as public and private events. With a focus on environmentally-sound growing methods and historic preservation\, Wright-Locke Farm provides a meaningful connection to nature\, food and history. Their inclusive and welcoming environment invites everyone to participate and get involved. \nPlease note: this is a cooking demonstration class. Attendees will be served a sampling of each dish prepared during class. If for any reason a class needs to be cancelled\, we will postpone to another date. Refunds will be given to those unable to make the new date.
URL:https://lexobserver.org/event/soup-season-three-cold-weather-classics-with-chef-kelcy-scolnick/
LOCATION:LexMedia\, 1001 Main Campus Drive\, Lexington\, 02421\, United States
ATTACH;FMTTYPE=image/png:https://lexobserver.org/wp-content/uploads/2025/10/SoupSeasonChefKelcy-Nov2025.png
ORGANIZER;CN="LexMedia":MAILTO:contact@lexmedia.org
END:VEVENT
BEGIN:VEVENT
DTSTART;TZID=America/New_York:20251106T183000
DTEND;TZID=America/New_York:20251106T203000
DTSTAMP:20260423T080301
CREATED:20251030T192119Z
LAST-MODIFIED:20251030T200715Z
UID:54982-1762453800-1762461000@lexobserver.org
SUMMARY:Munroe Center for the Arts Invites the Public to a Gallery Reception for "Pressing Matters: Community Connections in Printmaking"
DESCRIPTION:Munroe Center for the Arts welcomes the public to a free gallery reception for its latest show\, “Pressing Matters: Community Connections in Printmaking\,” on Thursday\, Nov. 6\, from 6:30-8:30 p.m. The exhibit features a collection of prints from acclaimed regional artists in a variety of techniques\, including linocut\, intaglio\, monoprint\, collagraph\, cyanotype\, textiles and more! Come chat with the artists\, enjoy refreshments\, and celebrate MCA’s printmaking studio with an extravaganza of students’ work there\, too! \nDetails about this show can be found online at www.munroecenter.org/in-the-gallery.html. The MCA Gallery is located on the middle floor just up the stairs\, and open during regular business hours: M – F\, 9 a.m. to 5 p.m. Parking can be found behind the building or along Massachusetts Ave. (please note limited availability due to our current construction project). \nThe Munroe Center for the Arts’ mission is to inspire\, engage and nurture students\, artists\, audiences and the community in their creative explorations. Join us for a class\, workshop\, an event or summer camp! Munroe Center for the Arts is located at 1403 Mass. Ave\, Lexington\, MA. For more info go to munroecenter.org.
URL:https://lexobserver.org/event/munroe-center-for-the-arts-gallery-reception-pressing-matters/
LOCATION:Munroe Center for the Arts\, 1403 Massachusetts Ave\, Lexington\, MA\, 02420
ATTACH;FMTTYPE=image/png:https://lexobserver.org/wp-content/uploads/2025/10/In-The-Gallery-printmaking-2.png
ORGANIZER;CN="Munroe Center for the Arts":MAILTO:info@munroecenter.org
END:VEVENT
BEGIN:VEVENT
DTSTART;TZID=America/New_York:20251106T190000
DTEND;TZID=America/New_York:20251108T203000
DTSTAMP:20260423T080301
CREATED:20251016T171620Z
LAST-MODIFIED:20251104T021945Z
UID:54131-1762455600-1762633800@lexobserver.org
SUMMARY:Diamond Middle School Fall Play
DESCRIPTION:Diamond Middle School’s performing arts department will perform Law & Order: Fairy Tale Unit\, a play by Jonathan Rand on Nov. 6\, 7 and 8 at 7 p.m.\n\nTickets can be purchased by the general public starting on Monday\, Oct. 27 online at Diamond Play Tickets\, or they will be available for purchase with cash at the door on the night of each show for $5 each. Seating is general admission so get there early to pick up your tickets and get your seats. The auditorium doors will open at 6:30 p.m.\nLaw & Order: Fairy Tale Unit by Jonathan Rand is a whimsical spoof on the Law & Order television series. The show is appropriate and fun for all ages. \n“In the fairy tale criminal justice system\, citizens are represented by two separate yet equally ridiculous groups: the fairy tale police who investigate fairy tale crime\, and the fairy tale district attorneys who prosecute the fairy tale offenders. These are their stories.”
URL:https://lexobserver.org/event/diamond-middle-school-fall-play/
LOCATION:Diamond Middle School\, 99 Hancock St\, Lexington
ATTACH;FMTTYPE=image/png:https://lexobserver.org/wp-content/uploads/2025/10/law-and-order.png
END:VEVENT
END:VCALENDAR