BEGIN:VCALENDAR
VERSION:2.0
PRODID:-//The Lexington Observer - ECPv6.15.20//NONSGML v1.0//EN
CALSCALE:GREGORIAN
METHOD:PUBLISH
X-ORIGINAL-URL:https://lexobserver.org
X-WR-CALDESC:Events for The Lexington Observer
REFRESH-INTERVAL;VALUE=DURATION:PT1H
X-Robots-Tag:noindex
X-PUBLISHED-TTL:PT1H
BEGIN:VTIMEZONE
TZID:America/New_York
BEGIN:DAYLIGHT
TZOFFSETFROM:-0500
TZOFFSETTO:-0400
TZNAME:EDT
DTSTART:20240310T070000
END:DAYLIGHT
BEGIN:STANDARD
TZOFFSETFROM:-0400
TZOFFSETTO:-0500
TZNAME:EST
DTSTART:20241103T060000
END:STANDARD
BEGIN:DAYLIGHT
TZOFFSETFROM:-0500
TZOFFSETTO:-0400
TZNAME:EDT
DTSTART:20250309T070000
END:DAYLIGHT
BEGIN:STANDARD
TZOFFSETFROM:-0400
TZOFFSETTO:-0500
TZNAME:EST
DTSTART:20251102T060000
END:STANDARD
BEGIN:DAYLIGHT
TZOFFSETFROM:-0500
TZOFFSETTO:-0400
TZNAME:EDT
DTSTART:20260308T070000
END:DAYLIGHT
BEGIN:STANDARD
TZOFFSETFROM:-0400
TZOFFSETTO:-0500
TZNAME:EST
DTSTART:20261101T060000
END:STANDARD
END:VTIMEZONE
BEGIN:VEVENT
DTSTART;TZID=America/New_York:20250629T110000
DTEND;TZID=America/New_York:20250629T120000
DTSTAMP:20260424T064030
CREATED:20250613T020247Z
LAST-MODIFIED:20250627T230300Z
UID:46477-1751194800-1751198400@lexobserver.org
SUMMARY:Sunday Stroll Walking Tour: Lexington Celebrates!
DESCRIPTION:Parades\, pageants\, and pandemonium have defined the many commemorations of the 1775 Battle of Lexington and the first shots of the War for Independence. Over the centuries\, thousands of people have descended upon the Battle Green to welcome Revolutionary War heroes like the Marquis de Lafayette on his tour of America in 1824. The anniversaries of the battle offered them a glimpse of President Grant in 1875 and a word from President Ford in 1975. On this land\, protestors have sat and monuments have been built to the fallen. Join a Lexington Historical Society educator as they illuminate 250 years of stories full of crowds\, chaos\, and celebrations!\n\nStarting and ending at Buckman Tavern\, this tour explores areas around the Lexington Battle Green. The tour is one hour long and covers about a half a mile on flat ground.\n\nSpace is limited to 20 people. Ticket sales end at 6 p.m. the evening before the tour.\n\n$10 for members\, $15 for non-members
URL:https://lexobserver.org/event/sunday-stroll-walking-tour-lexington-celebrates-3/
LOCATION:Buckman Tavern\, 1 Bedford St\, Lexington\, MA\, 02420\, United States
ATTACH;FMTTYPE=image/jpeg:https://lexobserver.org/wp-content/uploads/2025/06/https-__cdn-evbuc-com_images_722307729_259462152801_1_original-1.jpg
END:VEVENT
BEGIN:VEVENT
DTSTART;TZID=America/New_York:20250629T110000
DTEND;TZID=America/New_York:20250629T140000
DTSTAMP:20260424T064030
CREATED:20250613T020255Z
LAST-MODIFIED:20250613T020255Z
UID:46469-1751194800-1751205600@lexobserver.org
SUMMARY:18th Century Music at the Depot
DESCRIPTION:Drop in to meet Historical Society guide and musician Darlene Wigton as she demonstrates 18th-century guitar music. You can even learn a song and join in! \nIncluded with museum admission.
URL:https://lexobserver.org/event/18th-century-music-at-the-depot/
LOCATION:Lexington Depot\, 13 Depot Square\, Lexington\, MA\, 02421\, United States
ATTACH;FMTTYPE=image/jpeg:https://lexobserver.org/wp-content/uploads/2025/06/music-1.jpg
ORGANIZER;CN="Lexington History Museums":MAILTO:visitorservices@lexingtonhistory.org
END:VEVENT
BEGIN:VEVENT
DTSTART;TZID=America/New_York:20250629T130000
DTEND;TZID=America/New_York:20250629T170000
DTSTAMP:20260424T064030
CREATED:20250613T020102Z
LAST-MODIFIED:20250613T020102Z
UID:46629-1751202000-1751216400@lexobserver.org
SUMMARY:Woburn GreenFest
DESCRIPTION:Woburn GreenFest \nCommunity – Sustainability – Education – Fun \nSunday\, June 29th from 1:00-5:00 pm – North Suburban YMCA\, 137 Lexington St.\, Woburn\, MA \nMystic River Watershed Association and Know Your Neighbor Woburn have joined forces to host Woburn GreenFest – a community “big tent” event celebrating and elevating awareness of Climate Justice and Green Space conservation\, preservation\, and improvements in the City of Woburn and throughout the Mystic River Watershed. Organizers are striving to bring the community together to learn more about Woburn’s watershed and green space assets and improvement projects and programs\, and enjoy a joyful afternoon of community-building fun in the sun. \nHosted by North Suburban YMCA\, this outdoor event will feature a Festival vibe complete with educational and fun activities\, food\, music\, games\, and community exhibits centered on Climate Justice and environmental sustainability. Local and regional conservation\, environmental\, and climate justice groups will be featured in a speaking program and presentations. \nCommunity sponsors include City of Woburn Ward 3 Councilor and President\, Mr. Jeff Dillon\, and Ward 7 Councilor\, Mr. Chuck Viola.  Organizers are also grateful to the host sponsor\, North Suburban YMCA\, and the YMCA of Greater Boston.  Major funding has been provided by Mystic River Watershed Association\, Winchester Hospital – Beth Israel Health\, Mystic Valley NAACP\, Eversource\, and the Lutheran Church of the Redeemer\, Woburn. \nMystic River Watershed Association (MyRWA) builds solutions so that all people across the watershed\, no matter who they are or where they live\, have safe and easy access to nature and a healthy environment. MyRWA is rooted in science and the understanding of environmental injustices. We believe access to information and opportunities to learn about the natural world empower us all to work together for a better future in the Mystic. More information. \nKnow Your Neighbor Woburn’s mission is to build an inclusive community in the City of Woburn and the surrounding region – fostering and growing a multicultural community by organizing a variety of friendly\, welcoming\, and inclusive events\, cultural celebrations\, workshops\, and educational programs designed to connect people from diverse cultures and faith communitties. More information.
URL:https://lexobserver.org/event/woburn-greenfest/
LOCATION:North Suburban YMCA\, 137 Lexington St\, Woburn\, M\, 01801\, United States
ATTACH;FMTTYPE=image/png:https://lexobserver.org/wp-content/uploads/2025/06/Woburn-Greenfest_8.5x11_Final.png
ORGANIZER;CN="Know Your Neighbor Woburn":MAILTO:cdimeo@hotmail.com
END:VEVENT
END:VCALENDAR