BEGIN:VCALENDAR
VERSION:2.0
PRODID:-//The Lexington Observer - ECPv6.15.20//NONSGML v1.0//EN
CALSCALE:GREGORIAN
METHOD:PUBLISH
X-ORIGINAL-URL:https://lexobserver.org
X-WR-CALDESC:Events for The Lexington Observer
REFRESH-INTERVAL;VALUE=DURATION:PT1H
X-Robots-Tag:noindex
X-PUBLISHED-TTL:PT1H
BEGIN:VTIMEZONE
TZID:America/New_York
BEGIN:DAYLIGHT
TZOFFSETFROM:-0500
TZOFFSETTO:-0400
TZNAME:EDT
DTSTART:20240310T070000
END:DAYLIGHT
BEGIN:STANDARD
TZOFFSETFROM:-0400
TZOFFSETTO:-0500
TZNAME:EST
DTSTART:20241103T060000
END:STANDARD
BEGIN:DAYLIGHT
TZOFFSETFROM:-0500
TZOFFSETTO:-0400
TZNAME:EDT
DTSTART:20250309T070000
END:DAYLIGHT
BEGIN:STANDARD
TZOFFSETFROM:-0400
TZOFFSETTO:-0500
TZNAME:EST
DTSTART:20251102T060000
END:STANDARD
BEGIN:DAYLIGHT
TZOFFSETFROM:-0500
TZOFFSETTO:-0400
TZNAME:EDT
DTSTART:20260308T070000
END:DAYLIGHT
BEGIN:STANDARD
TZOFFSETFROM:-0400
TZOFFSETTO:-0500
TZNAME:EST
DTSTART:20261101T060000
END:STANDARD
END:VTIMEZONE
BEGIN:VEVENT
DTSTART;TZID=America/New_York:20250627T190000
DTEND;TZID=America/New_York:20250627T203000
DTSTAMP:20260422T045925
CREATED:20250613T020339Z
LAST-MODIFIED:20250627T225828Z
UID:46461-1751050800-1751056200@lexobserver.org
SUMMARY:Pride Month Lecture: Longfellow Legacies
DESCRIPTION:When most people—especially in Lexington—hear the name Henry Wadsworth Longfellow today\, they probably think of his 1860 poem\, “Paul Revere’s Ride.” But what about the man behind the famous verses?\n\nIn his personal life\, Longfellow was surrounded by people who we would today consider members of the LGBTQ+ community\, including friends\, siblings\, children and grandchildren. For this special Pride Month presentation\, public historian Meaghan Michel will explore LGBTQ+ history through three generations of the Longfellow family. Join us and learn how queer people in the 19th and early 20th centuries faced hardships\, found love and acceptance\, and made their mark on history.\n\nMeaghan Michel is an independent historian with a B.A. in Public History from Suffolk University and a decade of experience as a ranger at the National Parks of Boston\, including four years at Longfellow House-Washington’s Headquarters National Historic Site. She is currently a guide with HubTown Tours and a volunteer at The History Project.\n\nThis event is brought to you in partnership with LexPride!\n\n$10 for Lexington History Museums members\, $15 for non-members\n\nEventbrite registrants are automatically enrolled in the Lexington History Museums’ weekly newsletter.
URL:https://lexobserver.org/event/pride-month-lecture-longfellow-legacies/
LOCATION:Lexington Depot\, 13 Depot Square\, Lexington\, MA\, 02421\, United States
ATTACH;FMTTYPE=image/png:https://lexobserver.org/wp-content/uploads/2025/06/2369px-Alice_Longfellow_and_Fanny_Stone_-981deabc-b417-40be-8044-263ba0736b65-.png
ORGANIZER;CN="Lexington History Museums":MAILTO:visitorservices@lexingtonhistory.org
END:VEVENT
END:VCALENDAR