BEGIN:VCALENDAR
VERSION:2.0
PRODID:-//The Lexington Observer - ECPv6.15.20//NONSGML v1.0//EN
CALSCALE:GREGORIAN
METHOD:PUBLISH
X-ORIGINAL-URL:https://lexobserver.org
X-WR-CALDESC:Events for The Lexington Observer
REFRESH-INTERVAL;VALUE=DURATION:PT1H
X-Robots-Tag:noindex
X-PUBLISHED-TTL:PT1H
BEGIN:VTIMEZONE
TZID:America/New_York
BEGIN:DAYLIGHT
TZOFFSETFROM:-0500
TZOFFSETTO:-0400
TZNAME:EDT
DTSTART:20240310T070000
END:DAYLIGHT
BEGIN:STANDARD
TZOFFSETFROM:-0400
TZOFFSETTO:-0500
TZNAME:EST
DTSTART:20241103T060000
END:STANDARD
BEGIN:DAYLIGHT
TZOFFSETFROM:-0500
TZOFFSETTO:-0400
TZNAME:EDT
DTSTART:20250309T070000
END:DAYLIGHT
BEGIN:STANDARD
TZOFFSETFROM:-0400
TZOFFSETTO:-0500
TZNAME:EST
DTSTART:20251102T060000
END:STANDARD
BEGIN:DAYLIGHT
TZOFFSETFROM:-0500
TZOFFSETTO:-0400
TZNAME:EDT
DTSTART:20260308T070000
END:DAYLIGHT
BEGIN:STANDARD
TZOFFSETFROM:-0400
TZOFFSETTO:-0500
TZNAME:EST
DTSTART:20261101T060000
END:STANDARD
END:VTIMEZONE
BEGIN:VEVENT
DTSTART;TZID=America/New_York:20250614T190000
DTEND;TZID=America/New_York:20250614T210000
DTSTAMP:20260424T075842
CREATED:20250509T042255Z
LAST-MODIFIED:20250509T042255Z
UID:43612-1749927600-1749934800@lexobserver.org
SUMMARY:A Night Off Presents: Comedy & Music
DESCRIPTION:Welcome to A Night Off Presents: A Night of Music & Comedy. Join us on Saturday\, June 14th at 7:00 pm at the Isaac Harris Cary Memorial Building for a night of excitement and entertainment. This event is all about bringing the community together to enjoy The Best Stand-up Comedy & Music in Boston. Whether you’re a long-time resident or new to the area\, this show will not disappoint! Don’t miss out on this opportunity to make new friends and catch some of the funniest and most talented artists in New England.
URL:https://lexobserver.org/event/a-night-off-presents-comedy-music/
LOCATION:Cary Hall\, 1605 Massachusetts Ave\, Lexington\, MA\, United States
ATTACH;FMTTYPE=image/jpeg:https://lexobserver.org/wp-content/uploads/2025/05/IMG_1765.jpeg
ORGANIZER;CN="A Night Off Events":MAILTO:Alvaro.mendoza.bu@gmail.com
END:VEVENT
END:VCALENDAR