BEGIN:VCALENDAR
VERSION:2.0
PRODID:-//The Lexington Observer - ECPv6.15.20//NONSGML v1.0//EN
CALSCALE:GREGORIAN
METHOD:PUBLISH
X-ORIGINAL-URL:https://lexobserver.org
X-WR-CALDESC:Events for The Lexington Observer
REFRESH-INTERVAL;VALUE=DURATION:PT1H
X-Robots-Tag:noindex
X-PUBLISHED-TTL:PT1H
BEGIN:VTIMEZONE
TZID:America/New_York
BEGIN:DAYLIGHT
TZOFFSETFROM:-0500
TZOFFSETTO:-0400
TZNAME:EDT
DTSTART:20240310T070000
END:DAYLIGHT
BEGIN:STANDARD
TZOFFSETFROM:-0400
TZOFFSETTO:-0500
TZNAME:EST
DTSTART:20241103T060000
END:STANDARD
BEGIN:DAYLIGHT
TZOFFSETFROM:-0500
TZOFFSETTO:-0400
TZNAME:EDT
DTSTART:20250309T070000
END:DAYLIGHT
BEGIN:STANDARD
TZOFFSETFROM:-0400
TZOFFSETTO:-0500
TZNAME:EST
DTSTART:20251102T060000
END:STANDARD
BEGIN:DAYLIGHT
TZOFFSETFROM:-0500
TZOFFSETTO:-0400
TZNAME:EDT
DTSTART:20260308T070000
END:DAYLIGHT
BEGIN:STANDARD
TZOFFSETFROM:-0400
TZOFFSETTO:-0500
TZNAME:EST
DTSTART:20261101T060000
END:STANDARD
END:VTIMEZONE
BEGIN:VEVENT
DTSTART;TZID=America/New_York:20250514T093000
DTEND;TZID=America/New_York:20250514T100000
DTSTAMP:20260422T061042
CREATED:20250429T184111Z
LAST-MODIFIED:20250429T184308Z
UID:43134-1747215000-1747216800@lexobserver.org
SUMMARY:Lexington Field & Garden Club presents "Festive Florals!" with Mary Beth Hayes
DESCRIPTION:Mary Beth Hayes is an avid gardener who has taken classes with the Mass Horticultural Society and the Cass School of Floral Design in Watertown\, MA and with several leading floral designers. She has a home-based studio business\, Semper Virens Flowers\, that provides flowers for weddings and events\, and offers workshops. \nDuring Mary Beth’s talk\, she will cover how to use special floral selections to make festive occasions even more festive. She will demonstrate how to make floral jewelry such as a floral cuff\, a floral crown and lei-type flower necklace\, a foliage swag for a door and a wreath made with flowers and greens. \nFollen Church\, 755 Mass Avenue\, Lexington\nWednesday\, May 14\, 2025 \n9:30 a.m. Refreshments\, 10 a.m. Meeting  \nThis event is Free! \nStreet parking is available along Mass Ave and Follen Rd. Carpooling might be advisable. \nhttp://lexgarden.org
URL:https://lexobserver.org/event/lexington-field-garden-club-presents-festive-florals/
LOCATION:Follen Church\, 755 Massachusetts Ave\, Lexington\, MA\, 02420\, United States
END:VEVENT
BEGIN:VEVENT
DTSTART;TZID=America/New_York:20250514T100000
DTEND;TZID=America/New_York:20250514T120000
DTSTAMP:20260422T061042
CREATED:20250502T055058Z
LAST-MODIFIED:20250502T055058Z
UID:43468-1747216800-1747224000@lexobserver.org
SUMMARY:Festive Florals! with Mary Beth Hayes
DESCRIPTION:Lexington Field & Garden Club presents “Festive Florals!” with Mary Beth Hayes \nFollen Church\, 755 Mass Avenue\, Lexington\nWednesday\, May 14\, 2025\n9:30 AM Refreshments\, 10AM Meeting  \nMary Beth Hayes is an avid gardener who has taken classes with the Mass Horticultural Society and the Cass School of Floral Design in Watertown\, MA\, and with several leading floral designers.  She has a home-based studio business\, Semper Virens Flowers\, providing flowers for weddings\, events\, and offering workshops. \nDuring Mary Beth’s talk\, she will cover how to use special floral selections to make festive occasions even more festive.  She will demonstrate how to make floral jewelry such as a floral cuff\, a floral crown\, and lei-type flower necklace\, a foliage swag for a door\, and a wreath made with flowers and greens. \nThis event is Free!\nStreet parking is available along Mass Ave and Follen Rd. Carpooling might be advisable. \nhttp://lexgarden.org
URL:https://lexobserver.org/event/festive-florals-with-mary-beth-hayes/
LOCATION:Follen Church\, 755 Massachusetts Ave\, Lexington\, MA\, 02420\, United States
ATTACH;FMTTYPE=image/jpeg:https://lexobserver.org/wp-content/uploads/2025/04/LFGC-logo-2023-outline-175.jpg
END:VEVENT
BEGIN:VEVENT
DTSTART;TZID=America/New_York:20250514T190000
DTEND;TZID=America/New_York:20250514T210000
DTSTAMP:20260422T061042
CREATED:20250508T150149Z
LAST-MODIFIED:20250508T150149Z
UID:43910-1747249200-1747256400@lexobserver.org
SUMMARY:From Risk to Resilience: Midlife Strategies for Disease Prevention
DESCRIPTION:Join us for an inspiring evening of expert insights at the Lexington Women’s Health Speaker Series\, dedicated to proactive wellness and reducing health risks for women in midlife. \nThis empowering event features a dynamic panel of healthcare professionals—including a physician\, nurse practitioner\, nurse coach\, and sports dietitian—who will share actionable\, evidence-based strategies and hormone therapies to support: \n\nCancer Prevention through lifestyle medicine\nMetabolic Health with blood sugar balance\nHeart Health via nutrition\, movement\, and resilience\nHormone Health for longevity and vitality\n\nWhat You’ll Gain: \n\nPractical tools to lower your risk of top health concerns affecting midlife women\nAccess to expert guidance for navigating your unique health journey\nA supportive community of women tackling similar challenges\n\nWhether you’re navigating perimenopause\, managing menopause\, or simply striving to stay strong and vibrant\, this evening is for you. \nConnect\, learn\, and leave empowered with the knowledge and tools to take charge of your wellness for decades to come. \n\n\nDate & time: Wednesday\, May 14th from 7pm – 9pm\n\nLocation: the Lexington Venue Theater\n\nOrganizer: Catherine Walter Coaching\nwww.catherine-walter.com\n\nBooking link: https://www.eventbrite.com/e/1308532960309?aff=oddtdtcreator\n\nCost: $15
URL:https://lexobserver.org/event/from-risk-to-resilience-midlife-strategies-for-disease-prevention/
LOCATION:Lexington Venue Theater\, 1794 Massachusetts Avenue\, Lexington\, M\, 02420\, United States
END:VEVENT
END:VCALENDAR