BEGIN:VCALENDAR
VERSION:2.0
PRODID:-//The Lexington Observer - ECPv6.15.20//NONSGML v1.0//EN
CALSCALE:GREGORIAN
METHOD:PUBLISH
X-WR-CALNAME:The Lexington Observer
X-ORIGINAL-URL:https://lexobserver.org
X-WR-CALDESC:Events for The Lexington Observer
REFRESH-INTERVAL;VALUE=DURATION:PT1H
X-Robots-Tag:noindex
X-PUBLISHED-TTL:PT1H
BEGIN:VTIMEZONE
TZID:America/New_York
BEGIN:DAYLIGHT
TZOFFSETFROM:-0500
TZOFFSETTO:-0400
TZNAME:EDT
DTSTART:20240310T070000
END:DAYLIGHT
BEGIN:STANDARD
TZOFFSETFROM:-0400
TZOFFSETTO:-0500
TZNAME:EST
DTSTART:20241103T060000
END:STANDARD
BEGIN:DAYLIGHT
TZOFFSETFROM:-0500
TZOFFSETTO:-0400
TZNAME:EDT
DTSTART:20250309T070000
END:DAYLIGHT
BEGIN:STANDARD
TZOFFSETFROM:-0400
TZOFFSETTO:-0500
TZNAME:EST
DTSTART:20251102T060000
END:STANDARD
BEGIN:DAYLIGHT
TZOFFSETFROM:-0500
TZOFFSETTO:-0400
TZNAME:EDT
DTSTART:20260308T070000
END:DAYLIGHT
BEGIN:STANDARD
TZOFFSETFROM:-0400
TZOFFSETTO:-0500
TZNAME:EST
DTSTART:20261101T060000
END:STANDARD
END:VTIMEZONE
BEGIN:VEVENT
DTSTART;TZID=America/New_York:20250506T160000
DTEND;TZID=America/New_York:20250506T180000
DTSTAMP:20260424T061602
CREATED:20250418T131445Z
LAST-MODIFIED:20250418T131445Z
UID:42392-1746547200-1746554400@lexobserver.org
SUMMARY:Aging in Place Resource Fair
DESCRIPTION:Lexington Senior Services is hosting a free Aging in Place Resource Fair at the Lexington Community Center on May 6th from 4:00 PM to 6:00 PM. This event is designed to help seniors and their families access valuable resources and information that support aging in place—enabling older adults to live independently and safely in their homes for as long as possible. \nWhat to Expect at the Resource Fair:\nResource Tables: Local organizations will be available to share brochures\, answer questions\, and provide one-on-one consultations on aging in place topics.This event is open to all\, whether you are a senior looking for ways to remain independent in your own home\, a caregiver seeking support\, or anyone interested in learning more about aging in place.
URL:https://lexobserver.org/event/aging-in-place-resource-fair/
LOCATION:Lexington Community Center\, 39 Marrett Road\, Lexington\, MA\, 02420\, United States
END:VEVENT
BEGIN:VEVENT
DTSTART;TZID=America/New_York:20250506T160000
DTEND;TZID=America/New_York:20250506T180000
DTSTAMP:20260424T061602
CREATED:20250425T050032Z
LAST-MODIFIED:20250425T050032Z
UID:42330-1746547200-1746554400@lexobserver.org
SUMMARY:Aging in Place Resource Fair
DESCRIPTION:Lexington Senior Services is hosting a free Aging in Place Resource Fair at the Lexington Community Center on May 6th from 4:00 pm to 6:00 pm. This event is designed to help seniors and their families access valuable resources and information that support aging in place\, enabling older adults to live independently and safely in their homes for as long as possible. \nWhat to Expect at the Resource Fair: \nResource Tables- Local organizations will be available to share brochures\, answer questions\, and provide one-on-one consultations on aging in place topics. This event is open to all\, whether you are a senior looking for ways to remain independent in your own home\, a caregiver seeking support\, or anyone interested in learning more about aging in place.
URL:https://lexobserver.org/event/aging-in-place-resource-fair-2/
LOCATION:Lexington Community Center\, 39 Marrett Road\, Lexington\, MA\, 02420\, United States
END:VEVENT
BEGIN:VEVENT
DTSTART;TZID=America/New_York:20250506T190000
DTEND;TZID=America/New_York:20250506T200000
DTSTAMP:20260424T061602
CREATED:20250502T043648Z
LAST-MODIFIED:20250502T043648Z
UID:43172-1746558000-1746561600@lexobserver.org
SUMMARY:Book Chat on American Inheritance by Edward J Larson
DESCRIPTION:New attention from historians and journalists is raising pointed questions about the founding period: was the American Revolution waged to preserve slavery\, and was the Constitution a pact with slavery or a landmark in the antislavery movement? Leaders of the Founding who called for American liberty are scrutinized for enslaving Black people themselves: George Washington consistently refused to recognize the freedom of those who escaped his Mount Vernon plantation. And we have long needed a history of the founding that fully includes Black Americans in the Revolutionary protests\, the war\, and the debates over slavery and freedom that followed. Join us in a group discussion to dive deeper into the contradictions of our founding.\n\n$10 Historical Society members\, $15 nonmembers\n\nPlease note that due to construction at the Depot\, Book Chats for the 2024-25 season will take place in the archives and Research Center at Munroe Tavern.
URL:https://lexobserver.org/event/book-chat-on-american-inheritance-by-edward-j-larson/
LOCATION:Munroe Tavern\, 1332 Massachusetts Ave\, Lexington\, MA\, 02420\, United States
ATTACH;FMTTYPE=image/jpeg:https://lexobserver.org/wp-content/uploads/2025/04/51AOQVSfxaL-_SL500_.jpg
ORGANIZER;CN="Lexington Historical Society":MAILTO:programs@lexingtonhistory.org
END:VEVENT
BEGIN:VEVENT
DTSTART;TZID=America/New_York:20250506T190000
DTEND;TZID=America/New_York:20250506T203000
DTSTAMP:20260424T061602
CREATED:20250321T031521Z
LAST-MODIFIED:20250321T031521Z
UID:40715-1746558000-1746563400@lexobserver.org
SUMMARY:A Journey through the Roots of American Popular Music”
DESCRIPTION:On Tuesday\, May 6th\, Jon and Li Waterman will perform “A Journey through the Roots of American Popular Music” for Cary Memorial Library. The program will be held at the Lexington Community Center at 39 Marrett Rd. in Westborough at 7:00 pm. The program consists of original songs and history and explores some of the fascinating characters and events at the roots of the blues\, country\, rock\, and other genres of American popular music. The show also touches on the darker side of American popular music as well as how music helps shape our identity as a people. Songwriters and musicians\, Jon and Li Waterman have performed their music and history programs in venues throughout New England as part of a series called Live Music Making History Live. The series was designed to encourage the celebration and exploration of history through music. The program is supported in part by a grant from the Lexington Cultural Council\, a local agency which is supported by the Mass Cultural Council\, a state agency.
URL:https://lexobserver.org/event/a-journey-through-the-roots-of-american-popular-music/
LOCATION:Lexington Community Center\, 39 Marrett Road\, Lexington\, MA\, 02420\, United States
ATTACH;FMTTYPE=image/jpeg:https://lexobserver.org/wp-content/uploads/2025/03/May6_PopularMusicProgram_Flyer_Revised.jpg
ORGANIZER;CN="Cary Library":MAILTO:caryprograms@minlib.net
END:VEVENT
END:VCALENDAR