BEGIN:VCALENDAR
VERSION:2.0
PRODID:-//The Lexington Observer - ECPv6.15.20//NONSGML v1.0//EN
CALSCALE:GREGORIAN
METHOD:PUBLISH
X-WR-CALNAME:The Lexington Observer
X-ORIGINAL-URL:https://lexobserver.org
X-WR-CALDESC:Events for The Lexington Observer
REFRESH-INTERVAL;VALUE=DURATION:PT1H
X-Robots-Tag:noindex
X-PUBLISHED-TTL:PT1H
BEGIN:VTIMEZONE
TZID:America/New_York
BEGIN:DAYLIGHT
TZOFFSETFROM:-0500
TZOFFSETTO:-0400
TZNAME:EDT
DTSTART:20220313T070000
END:DAYLIGHT
BEGIN:STANDARD
TZOFFSETFROM:-0400
TZOFFSETTO:-0500
TZNAME:EST
DTSTART:20221106T060000
END:STANDARD
BEGIN:DAYLIGHT
TZOFFSETFROM:-0500
TZOFFSETTO:-0400
TZNAME:EDT
DTSTART:20230312T070000
END:DAYLIGHT
BEGIN:STANDARD
TZOFFSETFROM:-0400
TZOFFSETTO:-0500
TZNAME:EST
DTSTART:20231105T060000
END:STANDARD
BEGIN:DAYLIGHT
TZOFFSETFROM:-0500
TZOFFSETTO:-0400
TZNAME:EDT
DTSTART:20240310T070000
END:DAYLIGHT
BEGIN:STANDARD
TZOFFSETFROM:-0400
TZOFFSETTO:-0500
TZNAME:EST
DTSTART:20241103T060000
END:STANDARD
END:VTIMEZONE
BEGIN:VEVENT
DTSTART;TZID=America/New_York:20231001T030000
DTEND;TZID=America/New_York:20231001T090000
DTSTAMP:20260423T080022
CREATED:20230928T002121Z
LAST-MODIFIED:20230929T153728Z
UID:13684-1696129200-1696150800@lexobserver.org
SUMMARY:MASTER PUMPKIN ARTIST TO CARVE GIANT PUMPKINS AT WILSON FARM
DESCRIPTION:Witness the creation of a masterpiece! Master Pumpkin Carver Moe Auger will be at Wilson Farm on Sat\, Sept 30 and Sun\, Oct 1\, from 11am-4pm\, demonstrating his unique talent of carving whimsical faces into giant pumpkins. He will work on chiseling the face that best suits the size and shape of a few of the farm’s largest pumpkins throughout each day. \nIn addition\, Wilson Farm’s fall snack stand will be open every weekend now through the end of October from 10am-5pm serving fresh\, hot apple cider donuts\, hand-spun caramel apples and cold apple cider. Wilson Farm’s Executive Chef and Master Chef of France Raymond Ost will also be hosting live cooking demos every weekend from now through end of October featuring mouth-watering fall recipes available to sample.
URL:https://lexobserver.org/event/master-pumpkin-artist-to-carve-giant-pumpkins-at-wilson-farm/
LOCATION:Wilson Farm\, 10 Pleasant Street\, Lexington\, MA\, 02421\, United States
ATTACH;FMTTYPE=image/jpeg:https://lexobserver.org/wp-content/uploads/2023/09/Pumpkin-Carver-Moe-Auger-photo-2.jpg
ORGANIZER;CN="Wilson Farm":MAILTO:customerservice@wilsonfarm.com
END:VEVENT
BEGIN:VEVENT
DTSTART;TZID=America/New_York:20231001T140000
DTEND;TZID=America/New_York:20231001T170000
DTSTAMP:20260423T080022
CREATED:20230914T212819Z
LAST-MODIFIED:20230929T165955Z
UID:13360-1696168800-1696179600@lexobserver.org
SUMMARY:LexFarm Harvest Festival\, Sunday\, October 1\, 2-5 pm
DESCRIPTION:CELEBRATE THE HARVEST SEASON AT LEXFARM! \nHere are the highlights: \n• Live Bluegrass/Folk Music band\, The Wicked Pickers\n• Youth Activities run by our farm educators: activities such as: veggie races\, veggie print-making\, scavenger hunt\, worm exploration\, fairy house building\, and bubble play\n• LexFarm veggie tasting table\n• Food vendors Battuto and Crepe Du Jour\, plus snacks\, drinks & finger food available in the farmstand\n• Beer served by Arlington Brewing Company (21+)\n• Make a Flower Bracelet\n• Open House at Silk Fields Farm: Alpacas\, goats\, chickens\n• Informational booths:\no Foodlink: LexFarm’s partner for food rescue\no Friends of Lexington Bikeway: Bicycling in Lexington\, education & advocacy programs\no Lexington Greenways Corridor Committee: ACROSS Lexington walking and biking route network. \n$15 Household\, $10 Member Household \n$2 off for attending by bike. A bike corral will be hosted by Friends of Lexington Bikeway \nOverflow parking: Park on one side only of Lillian St.\, Haskell St.\, LItchfield St. or in the Arlington Reservoir lot.
URL:https://lexobserver.org/event/lexfarm-harvest-festival-sunday-october-1-2-5-pm/
LOCATION:LexFarm\, 52 Lowell St\, Lexington\, MA\, 02420\, United States
ATTACH;FMTTYPE=image/jpeg:https://lexobserver.org/wp-content/uploads/2023/09/HF_longshot-2022-crop-scaled.jpeg
ORGANIZER;CN="LexFarm":MAILTO:sues@lexfarm.org
END:VEVENT
BEGIN:VEVENT
DTSTART;TZID=America/New_York:20231001T150000
DTEND;TZID=America/New_York:20231001T170000
DTSTAMP:20260423T080022
CREATED:20230926T233332Z
LAST-MODIFIED:20230929T165936Z
UID:13642-1696172400-1696179600@lexobserver.org
SUMMARY:Lexington Pickleball Club October Open House
DESCRIPTION:Time flies and the weather is getting cooler. Come join us at our October Open House.\nSunday October 1st 3 – 5 pm\nClarke Middle School courts \nWe will have six Pickleball courts going with organized open play for all levels. If you are new to Pickleball join our mini introduction session to try out the game. \nLight snacks and refreshments will be served.
URL:https://lexobserver.org/event/lexington-pickleball-club-october-open-house/
LOCATION:MA
ATTACH;FMTTYPE=image/jpeg:https://lexobserver.org/wp-content/uploads/2023/09/lpc_open_play_2023_09_17.jpeg
END:VEVENT
END:VCALENDAR