BEGIN:VCALENDAR
VERSION:2.0
PRODID:-//The Lexington Observer - ECPv6.15.20//NONSGML v1.0//EN
CALSCALE:GREGORIAN
METHOD:PUBLISH
X-WR-CALNAME:The Lexington Observer
X-ORIGINAL-URL:https://lexobserver.org
X-WR-CALDESC:Events for The Lexington Observer
REFRESH-INTERVAL;VALUE=DURATION:PT1H
X-Robots-Tag:noindex
X-PUBLISHED-TTL:PT1H
BEGIN:VTIMEZONE
TZID:America/New_York
BEGIN:DAYLIGHT
TZOFFSETFROM:-0500
TZOFFSETTO:-0400
TZNAME:EDT
DTSTART:20220313T070000
END:DAYLIGHT
BEGIN:STANDARD
TZOFFSETFROM:-0400
TZOFFSETTO:-0500
TZNAME:EST
DTSTART:20221106T060000
END:STANDARD
BEGIN:DAYLIGHT
TZOFFSETFROM:-0500
TZOFFSETTO:-0400
TZNAME:EDT
DTSTART:20230312T070000
END:DAYLIGHT
BEGIN:STANDARD
TZOFFSETFROM:-0400
TZOFFSETTO:-0500
TZNAME:EST
DTSTART:20231105T060000
END:STANDARD
BEGIN:DAYLIGHT
TZOFFSETFROM:-0500
TZOFFSETTO:-0400
TZNAME:EDT
DTSTART:20240310T070000
END:DAYLIGHT
BEGIN:STANDARD
TZOFFSETFROM:-0400
TZOFFSETTO:-0500
TZNAME:EST
DTSTART:20241103T060000
END:STANDARD
END:VTIMEZONE
BEGIN:VEVENT
DTSTART;TZID=America/New_York:20230924T063000
DTEND;TZID=America/New_York:20230924T063000
DTSTAMP:20260419T110702
CREATED:20230905T164453Z
LAST-MODIFIED:20230905T164453Z
UID:13202-1695537000-1695537000@lexobserver.org
SUMMARY:Pilgrim Church Reverend Fred Small\, climate activist and folk singer
DESCRIPTION:Reverend Fred Small Speaks! Climate activist and folk singer\, Rev. Small will join us on Sunday\, September 24 at 10:30 AM. He will lead worship\, preach on The Peace of the Trees and share his song “Everything is Possible.” All are welcome!
URL:https://lexobserver.org/event/pilgrim-church-reverend-fred-small-climate-activist-and-folk-singer/
LOCATION:Pilgrim Church
END:VEVENT
END:VCALENDAR