BEGIN:VCALENDAR
VERSION:2.0
PRODID:-//The Lexington Observer - ECPv6.15.20//NONSGML v1.0//EN
CALSCALE:GREGORIAN
METHOD:PUBLISH
X-WR-CALNAME:The Lexington Observer
X-ORIGINAL-URL:https://lexobserver.org
X-WR-CALDESC:Events for The Lexington Observer
REFRESH-INTERVAL;VALUE=DURATION:PT1H
X-Robots-Tag:noindex
X-PUBLISHED-TTL:PT1H
BEGIN:VTIMEZONE
TZID:America/New_York
BEGIN:DAYLIGHT
TZOFFSETFROM:-0500
TZOFFSETTO:-0400
TZNAME:EDT
DTSTART:20220313T070000
END:DAYLIGHT
BEGIN:STANDARD
TZOFFSETFROM:-0400
TZOFFSETTO:-0500
TZNAME:EST
DTSTART:20221106T060000
END:STANDARD
BEGIN:DAYLIGHT
TZOFFSETFROM:-0500
TZOFFSETTO:-0400
TZNAME:EDT
DTSTART:20230312T070000
END:DAYLIGHT
BEGIN:STANDARD
TZOFFSETFROM:-0400
TZOFFSETTO:-0500
TZNAME:EST
DTSTART:20231105T060000
END:STANDARD
BEGIN:DAYLIGHT
TZOFFSETFROM:-0500
TZOFFSETTO:-0400
TZNAME:EDT
DTSTART:20240310T070000
END:DAYLIGHT
BEGIN:STANDARD
TZOFFSETFROM:-0400
TZOFFSETTO:-0500
TZNAME:EST
DTSTART:20241103T060000
END:STANDARD
END:VTIMEZONE
BEGIN:VEVENT
DTSTART;TZID=America/New_York:20230913T053000
DTEND;TZID=America/New_York:20230913T073000
DTSTAMP:20260421T070803
CREATED:20230817T153854Z
LAST-MODIFIED:20230817T153854Z
UID:12690-1694583000-1694590200@lexobserver.org
SUMMARY:A Philosophy of Garden Design for Drought\, Pests\, and Climate Change\, with Christie Dustman
DESCRIPTION:Lexington Field and Garden Club presents\nA Philosophy of Garden Design for Drought\, Pests\, and Climate Change\nwith Christie Dustman \nDate: Wednesday\, September 13\nTime: 9:30 AM Social Meeting/10 AM Meeting\nPlace: Follen Church\, 755 Mass Avenue\, Lexington \nChristie Dustman is a 25-year certified landscape designer with her own landscape-design company in the Boston area. She has won design awards and teaches at many venues\, including the Garden Federation\, local garden clubs\, and on the national stage. Her passion for conifers and design is evocative and functional.\nChristie will discuss her philosophy of designing gardens. She carefully considers where plants will make the most visual impact while being mindful of using water resources. She suggests pairing plants with non-plant objects to further enhance garden beauty and water conservation. She will also speak about her design for LFGC member Phyllis Kominz’s garden. \nThis event is open to all!\nCome and bring a friend.\nhttps://lexgardenclub.org
URL:https://lexobserver.org/event/a-philosophy-of-garden-design-for-drought-pests-and-climate-change-with-christie-dustman/
LOCATION:Follen Church\, 755 Massachusetts Ave\, Lexington\, MA\, 02420\, United States
END:VEVENT
END:VCALENDAR