BEGIN:VCALENDAR
VERSION:2.0
PRODID:-//The Lexington Observer - ECPv6.15.20//NONSGML v1.0//EN
CALSCALE:GREGORIAN
METHOD:PUBLISH
X-ORIGINAL-URL:https://lexobserver.org
X-WR-CALDESC:Events for The Lexington Observer
REFRESH-INTERVAL;VALUE=DURATION:PT1H
X-Robots-Tag:noindex
X-PUBLISHED-TTL:PT1H
BEGIN:VTIMEZONE
TZID:America/New_York
BEGIN:DAYLIGHT
TZOFFSETFROM:-0500
TZOFFSETTO:-0400
TZNAME:EDT
DTSTART:20220313T070000
END:DAYLIGHT
BEGIN:STANDARD
TZOFFSETFROM:-0400
TZOFFSETTO:-0500
TZNAME:EST
DTSTART:20221106T060000
END:STANDARD
BEGIN:DAYLIGHT
TZOFFSETFROM:-0500
TZOFFSETTO:-0400
TZNAME:EDT
DTSTART:20230312T070000
END:DAYLIGHT
BEGIN:STANDARD
TZOFFSETFROM:-0400
TZOFFSETTO:-0500
TZNAME:EST
DTSTART:20231105T060000
END:STANDARD
BEGIN:DAYLIGHT
TZOFFSETFROM:-0500
TZOFFSETTO:-0400
TZNAME:EDT
DTSTART:20240310T070000
END:DAYLIGHT
BEGIN:STANDARD
TZOFFSETFROM:-0400
TZOFFSETTO:-0500
TZNAME:EST
DTSTART:20241103T060000
END:STANDARD
END:VTIMEZONE
BEGIN:VEVENT
DTSTART;TZID=America/New_York:20230909T060000
DTEND;TZID=America/New_York:20230909T080000
DTSTAMP:20260421T054051
CREATED:20230824T214004Z
LAST-MODIFIED:20230824T214004Z
UID:12939-1694239200-1694246400@lexobserver.org
SUMMARY:Grandparents Day at Munroe Center for the Arts
DESCRIPTION:GRANDPARENTS DAY EVENT on Saturday\, September 9th from 10-12pm. This is a FREE PUBLIC EVENT led by artist Alice DelDonno who will be teaching how to make art books with collage and paint. All ages and abilities are welcome. Space is limited – register at:\nwww.munroecenter.org/grandparents-day
URL:https://lexobserver.org/event/grandparents-day-at-munroe-center-for-the-arts/
LOCATION:Munroe Center for the Arts\, 1403 Massachusetts Ave\, Lexington\, MA\, 02420
ATTACH;FMTTYPE=image/png:https://lexobserver.org/wp-content/uploads/2023/08/Grand-parents-Day-1.png
ORGANIZER;CN="Cristina Burwell":MAILTO:cristina@munroecenter.org
END:VEVENT
BEGIN:VEVENT
DTSTART;TZID=America/New_York:20230909T060000
DTEND;TZID=America/New_York:20230909T110000
DTSTAMP:20260421T054051
CREATED:20230829T184157Z
LAST-MODIFIED:20230829T184157Z
UID:13034-1694239200-1694257200@lexobserver.org
SUMMARY:Lexington Living Landscapes' Open Gardens Day
DESCRIPTION:More than a dozen Lexington residents are opening their gardens to visitors on Lexington Living Landscapes’ 2nd Annual Open Gardens Day on Saturday\, September 9. This is an opportunity for visitors to see a variety of gardens and get ideas for how they might incorporate more native plants\, fewer chemicals\, and more sustainable practices into their own landscaping. Stop by the gardens to see the many different forms a native plant garden can take\, or learn what alternatives to lawn fellow residents have tried.  Each of the participating gardens will be open to visitors either from 10 am – 1 pm or from 1 pm – 3 pm. Visit as many or as few as you wish. No ticket or pre-registration is needed. \nA detailed schedule and list of participating properties can be found on the Lexington Living Landscapes website (www.lexingtonlivinglandscapes.org).
URL:https://lexobserver.org/event/lexington-living-landscapes-open-gardens-day/
LOCATION:Various locations in Lexington
ATTACH;FMTTYPE=image/jpeg:https://lexobserver.org/wp-content/uploads/2023/08/OGD-pic.jpg
ORGANIZER;CN="Lexington Living Landscapes":MAILTO:lexlivingland@gmail.com
END:VEVENT
BEGIN:VEVENT
DTSTART;TZID=America/New_York:20230909T060000
DTEND;TZID=America/New_York:20230909T120000
DTSTAMP:20260421T054051
CREATED:20230905T163347Z
LAST-MODIFIED:20230905T163347Z
UID:13143-1694239200-1694260800@lexobserver.org
SUMMARY:Chamber of Commerce Fine Arts and Crafts Festival
DESCRIPTION:Join dozens of artists on the Visitors Center lawn for our 30th annual event
URL:https://lexobserver.org/event/chamber-of-commerce-fine-arts-and-crafts-festival/
LOCATION:Visitors Center Lawn\, 1875 Massachusetts Ave.\, Lexington\, MA\, 02420\, United States
ATTACH;FMTTYPE=image/png:https://lexobserver.org/wp-content/uploads/2023/09/Arts-and-crafts.png
END:VEVENT
END:VCALENDAR