BEGIN:VCALENDAR
VERSION:2.0
PRODID:-//The Lexington Observer - ECPv6.15.20//NONSGML v1.0//EN
CALSCALE:GREGORIAN
METHOD:PUBLISH
X-WR-CALNAME:The Lexington Observer
X-ORIGINAL-URL:https://lexobserver.org
X-WR-CALDESC:Events for The Lexington Observer
REFRESH-INTERVAL;VALUE=DURATION:PT1H
X-Robots-Tag:noindex
X-PUBLISHED-TTL:PT1H
BEGIN:VTIMEZONE
TZID:America/New_York
BEGIN:DAYLIGHT
TZOFFSETFROM:-0500
TZOFFSETTO:-0400
TZNAME:EDT
DTSTART:20220313T070000
END:DAYLIGHT
BEGIN:STANDARD
TZOFFSETFROM:-0400
TZOFFSETTO:-0500
TZNAME:EST
DTSTART:20221106T060000
END:STANDARD
BEGIN:DAYLIGHT
TZOFFSETFROM:-0500
TZOFFSETTO:-0400
TZNAME:EDT
DTSTART:20230312T070000
END:DAYLIGHT
BEGIN:STANDARD
TZOFFSETFROM:-0400
TZOFFSETTO:-0500
TZNAME:EST
DTSTART:20231105T060000
END:STANDARD
BEGIN:DAYLIGHT
TZOFFSETFROM:-0500
TZOFFSETTO:-0400
TZNAME:EDT
DTSTART:20240310T070000
END:DAYLIGHT
BEGIN:STANDARD
TZOFFSETFROM:-0400
TZOFFSETTO:-0500
TZNAME:EST
DTSTART:20241103T060000
END:STANDARD
END:VTIMEZONE
BEGIN:VEVENT
DTSTART;TZID=America/New_York:20230824T133000
DTEND;TZID=America/New_York:20230824T163000
DTSTAMP:20260423T063506
CREATED:20230815T210154Z
LAST-MODIFIED:20230817T155242Z
UID:12514-1692883800-1692894600@lexobserver.org
SUMMARY:Lexington Summer Paint Party
DESCRIPTION:Join us August 24th from 5:30pm to 8:30pm in Emery Park for a night of end of summer fun! \n• FREE Paint Party (space limited\, RSVP required)\n• Beer & Wine Garden\n• Live Music with Dave Sammarco Band\n• Kids Activities\n• Lawn Games \nJJ Artworks will host a coaster set paint party from 5:30pm to 7:30pm. The team will guide you through this freestyle event where you can paint in Emery Park’s beautiful outdoor setting! All supplies are provided\, including the coasters\, paint and brushes! \nSpace is limited for the paint party. Please RSVP via Eventbrite to secure your spot! \nhttps://www.eventbrite.com/e/lexington-summer-paint-party-tickets-689551867197?aff=oddtdtcreator \nKick back and relax with a drink while enjoying an evening of music\, activities and a paint party! \nWe kindly ask all those who have confirmed RSVPs to please arrive no later than 6 pm. After 6 pm if anyone on the list has not arrived\, we do open spots up to the waitlist/walk-ins.
URL:https://lexobserver.org/event/lexington-summer-paint-party/
LOCATION:Emery Park (Depot Square)\, Lexington\, MA\, United States
ATTACH;FMTTYPE=image/jpeg:https://lexobserver.org/wp-content/uploads/2023/08/20221021_181610-scaled.jpg
ORGANIZER;CN="Economic Development Office":MAILTO:economicdevelopment@lexingtonma.gov
END:VEVENT
END:VCALENDAR